BEGIN:VCALENDAR
VERSION:2.0
PRODID:-//Old Westbury Gardens - ECPv6.15.10//NONSGML v1.0//EN
CALSCALE:GREGORIAN
METHOD:PUBLISH
X-WR-CALNAME:Old Westbury Gardens
X-ORIGINAL-URL:https://www.oldwestburygardens.org/es
X-WR-CALDESC:Eventos para Old Westbury Gardens
REFRESH-INTERVAL;VALUE=DURATION:PT1H
X-Robots-Tag:noindex
X-PUBLISHED-TTL:PT1H
BEGIN:VTIMEZONE
TZID:America/New_York
BEGIN:DAYLIGHT
TZOFFSETFROM:-0500
TZOFFSETTO:-0400
TZNAME:EDT
DTSTART:20250309T070000
END:DAYLIGHT
BEGIN:STANDARD
TZOFFSETFROM:-0400
TZOFFSETTO:-0500
TZNAME:EST
DTSTART:20251102T060000
END:STANDARD
BEGIN:DAYLIGHT
TZOFFSETFROM:-0500
TZOFFSETTO:-0400
TZNAME:EDT
DTSTART:20260308T070000
END:DAYLIGHT
BEGIN:STANDARD
TZOFFSETFROM:-0400
TZOFFSETTO:-0500
TZNAME:EST
DTSTART:20261101T060000
END:STANDARD
BEGIN:DAYLIGHT
TZOFFSETFROM:-0500
TZOFFSETTO:-0400
TZNAME:EDT
DTSTART:20270314T070000
END:DAYLIGHT
BEGIN:STANDARD
TZOFFSETFROM:-0400
TZOFFSETTO:-0500
TZNAME:EST
DTSTART:20271107T060000
END:STANDARD
END:VTIMEZONE
BEGIN:VEVENT
DTSTART;TZID=America/New_York:20260427T103000
DTEND;TZID=America/New_York:20260427T113000
DTSTAMP:20260421T091621
CREATED:20260216T204326Z
LAST-MODIFIED:20260216T204327Z
UID:10001182-1777285800-1777289400@www.oldwestburygardens.org
SUMMARY:Tiny Gardeners
DESCRIPTION:This five-class program for ages 2-3 invites caregivers and children to learn together through play and guided exploration. Each class includes a story and a themed focus—Color\, Shapes\, Foods\, Gardening\, or the Senses—paired with music\, movement\, and hands-on sensory activities. Families experience the Gardens side by side in an all-weather program. \n\n\n\nThis is a 5-week\, all-weather program using an indoor space as needed.  \n\n\n\nAdvance registration is required for participation in this program. \n\n\n\nAges 2-3\, $150 non-member child | 20% discount for members | One (1) adult included with registration. \n\n\n\n\n\n\n\n\n\nbecome a member
URL:https://www.oldwestburygardens.org/es/event/tiny-gardeners-3/2026-04-27/
CATEGORIES:Family Fun,Kids
ATTACH;FMTTYPE=image/jpeg:https://www.oldwestburygardens.org/wp-content/uploads/2026/02/IMG_5433.jpg-rev-scaled.jpg
END:VEVENT
BEGIN:VEVENT
DTSTART;TZID=America/New_York:20260504T103000
DTEND;TZID=America/New_York:20260504T113000
DTSTAMP:20260421T091621
CREATED:20260216T204326Z
LAST-MODIFIED:20260216T204327Z
UID:10001183-1777890600-1777894200@www.oldwestburygardens.org
SUMMARY:Tiny Gardeners
DESCRIPTION:This five-class program for ages 2-3 invites caregivers and children to learn together through play and guided exploration. Each class includes a story and a themed focus—Color\, Shapes\, Foods\, Gardening\, or the Senses—paired with music\, movement\, and hands-on sensory activities. Families experience the Gardens side by side in an all-weather program. \n\n\n\nThis is a 5-week\, all-weather program using an indoor space as needed.  \n\n\n\nAdvance registration is required for participation in this program. \n\n\n\nAges 2-3\, $150 non-member child | 20% discount for members | One (1) adult included with registration. \n\n\n\n\n\n\n\n\n\nbecome a member
URL:https://www.oldwestburygardens.org/es/event/tiny-gardeners-3/2026-05-04/
CATEGORIES:Family Fun,Kids
ATTACH;FMTTYPE=image/jpeg:https://www.oldwestburygardens.org/wp-content/uploads/2026/02/IMG_5433.jpg-rev-scaled.jpg
END:VEVENT
BEGIN:VEVENT
DTSTART;TZID=America/New_York:20260511T103000
DTEND;TZID=America/New_York:20260511T113000
DTSTAMP:20260421T091621
CREATED:20260216T204127Z
LAST-MODIFIED:20260216T204158Z
UID:10001184-1778495400-1778499000@www.oldwestburygardens.org
SUMMARY:Tiny Gardeners
DESCRIPTION:This five-class program for ages 2-3 invites caregivers and children to learn together through play and guided exploration. Each class includes a story and a themed focus—Color\, Shapes\, Foods\, Gardening\, or the Senses—paired with music\, movement\, and hands-on sensory activities. Families experience the Gardens side by side in an all-weather program. \n\n\n\nThis is a 5-week\, all-weather program using an indoor space as needed.  \n\n\n\nAdvance registration is required for participation in this program. \n\n\n\nAges 2-3\, $150 non-member child | 20% discount for members | One (1) adult included with registration. \n\n\n\n\n\n\n\n\n\nbecome a member
URL:https://www.oldwestburygardens.org/es/event/tiny-gardeners-2/
CATEGORIES:Family Fun,Kids
ATTACH;FMTTYPE=image/jpeg:https://www.oldwestburygardens.org/wp-content/uploads/2026/02/IMG_5433.jpg-rev-scaled.jpg
END:VEVENT
END:VCALENDAR