BEGIN:VCALENDAR
VERSION:2.0
PRODID:-//Old Westbury Gardens - ECPv6.15.10//NONSGML v1.0//EN
CALSCALE:GREGORIAN
METHOD:PUBLISH
X-ORIGINAL-URL:https://www.oldwestburygardens.org
X-WR-CALDESC:Events for Old Westbury Gardens
REFRESH-INTERVAL;VALUE=DURATION:PT1H
X-Robots-Tag:noindex
X-PUBLISHED-TTL:PT1H
BEGIN:VTIMEZONE
TZID:America/New_York
BEGIN:DAYLIGHT
TZOFFSETFROM:-0500
TZOFFSETTO:-0400
TZNAME:EDT
DTSTART:20240310T070000
END:DAYLIGHT
BEGIN:STANDARD
TZOFFSETFROM:-0400
TZOFFSETTO:-0500
TZNAME:EST
DTSTART:20241103T060000
END:STANDARD
BEGIN:DAYLIGHT
TZOFFSETFROM:-0500
TZOFFSETTO:-0400
TZNAME:EDT
DTSTART:20250309T070000
END:DAYLIGHT
BEGIN:STANDARD
TZOFFSETFROM:-0400
TZOFFSETTO:-0500
TZNAME:EST
DTSTART:20251102T060000
END:STANDARD
BEGIN:DAYLIGHT
TZOFFSETFROM:-0500
TZOFFSETTO:-0400
TZNAME:EDT
DTSTART:20260308T070000
END:DAYLIGHT
BEGIN:STANDARD
TZOFFSETFROM:-0400
TZOFFSETTO:-0500
TZNAME:EST
DTSTART:20261101T060000
END:STANDARD
END:VTIMEZONE
BEGIN:VTIMEZONE
TZID:UTC
BEGIN:STANDARD
TZOFFSETFROM:+0000
TZOFFSETTO:+0000
TZNAME:UTC
DTSTART:20240101T000000
END:STANDARD
END:VTIMEZONE
BEGIN:VEVENT
DTSTART;TZID=America/New_York:20250703T200000
DTEND;TZID=America/New_York:20250703T200000
DTSTAMP:20260420T230058
CREATED:20250522T010012Z
LAST-MODIFIED:20250702T190302Z
UID:10000900-1751572800-1751572800@www.oldwestburygardens.org
SUMMARY:Canceled: Stargazers
DESCRIPTION:Art\, Family Fun\, Kids\, Seasonal/Special Events\n\n\n\n\nJoin members of the Astronomical Society of Long Island for a nighttime skywatching session. asliclub.org \n\n\n\nGates open at 8pm. \n\n\n\nAll Ages. Free Event! \n\n\n\nTHERE WILL BE NO CLOUD DATE FOR THIS EVENT.
URL:https://www.oldwestburygardens.org/event/stargazers-3/
CATEGORIES:Family Fun
ATTACH;FMTTYPE=image/jpeg:https://www.oldwestburygardens.org/wp-content/uploads/2025/05/Stargazers14.jpg
END:VEVENT
BEGIN:VEVENT
DTSTART;TZID=UTC:20250630T103000
DTEND;TZID=UTC:20250630T113000
DTSTAMP:20260420T230058
CREATED:20250625T152812Z
LAST-MODIFIED:20250626T142754Z
UID:10000868-1751279400-1751283000@www.oldwestburygardens.org
SUMMARY:Late Spring Tiny Gardeners Program
DESCRIPTION:Art\, Family Fun\, Kids\, Seasonal/Special Events\n\n\n\n\nChildren ages 2- 3 are invited with caregivers for an interactive and engaging late morning program to learn through play with natural outdoor themes. Music\, movement\, and foundational gardening skills are introduced and developed during educator led sensory activities centered around flowers and plants growing in Early Spring. Caregivers and children experience the Gardens side by side through guided exploration with opportunities to plant in our Tiny Community Garden \, and plant flowers and herbs to care for and bring home with Tiny Gardeners. \n\n\n\nThis is a 5 week every Monday all weather program using an indoor space as needed.   \n\n\n\nAges 2-3\, Pre-registration is required and extremely limited.  $150 non-member child/ 20% discount for members. One (1) adult included with registration.
URL:https://www.oldwestburygardens.org/event/sold-out-late-spring-tiny-gardeners-program-2/
CATEGORIES:Family Fun
ATTACH;FMTTYPE=image/png:https://www.oldwestburygardens.org/wp-content/uploads/2025/05/LateSpringTH.png
END:VEVENT
BEGIN:VEVENT
DTSTART;TZID=UTC:20250623T103000
DTEND;TZID=UTC:20250623T113000
DTSTAMP:20260420T230058
CREATED:20250509T003919Z
LAST-MODIFIED:20250530T195018Z
UID:10000867-1750674600-1750678200@www.oldwestburygardens.org
SUMMARY:SOLD OUT! Late Spring Tiny Gardeners Program
DESCRIPTION:Art\, Family Fun\, Kids\, Seasonal/Special Events\n\n\n\n\nChildren ages 2- 3 are invited with caregivers for an interactive and engaging late morning program to learn through play with natural outdoor themes. Music\, movement\, and foundational gardening skills are introduced and developed during educator led sensory activities centered around flowers and plants growing in Early Spring. Caregivers and children experience the Gardens side by side through guided exploration with opportunities to plant in our Tiny Community Garden \, and plant flowers and herbs to care for and bring home with Tiny Gardeners. \n\n\n\nThis is a 5 week every Monday all weather program using an indoor space as needed.   \n\n\n\nAges 2-3\, Pre-registration is required and extremely limited.  $150 non-member child/ 20% discount for members. One (1) adult included with registration.
URL:https://www.oldwestburygardens.org/event/late-spring-tiny-gardeners-program/2025-06-23/
CATEGORIES:Family Fun
ATTACH;FMTTYPE=image/png:https://www.oldwestburygardens.org/wp-content/uploads/2025/05/LateSpringTH.png
END:VEVENT
BEGIN:VEVENT
DTSTART;TZID=America/New_York:20250622T183000
DTEND;TZID=America/New_York:20250622T213000
DTSTAMP:20260420T230058
CREATED:20250522T005545Z
LAST-MODIFIED:20250522T005546Z
UID:10000899-1750617000-1750627800@www.oldwestburygardens.org
SUMMARY:Midsummer Nights
DESCRIPTION:Art\, Family Fun\, Kids\, Seasonal/Special Events\n\n\n\n\nGuests of all ages are invited to picnic\, stroll\, and relax on one of the longest nights of the year. The Gardens will be illuminated with lanterns and decorated with wreaths and floral arrangements. \n\n\n\nBring a picnic dinner or purchase food and beverages on site from Café in the Woods\, operated by Polka Dot Poundcake of Rockville Centre.  \n\n\n\n\n\n\n\n\n\n\n\n\n\n\n\n\n\nTICKETS: \n\n\n\nGates open at 6:00 p.m. \n\n\n\nChildren 6 and under are free \n\n\n\n$22 General Admission/Members 20% off \n\n\n\n$8 Children (ages 7-17)/Member Child 20% off (ages 7-17) \n\n\n\n\n\npurchase tickets\n\n\n\nbecome a member
URL:https://www.oldwestburygardens.org/event/midsummer-nights-3/
CATEGORIES:Family Fun,Seasonal/Special Events
ATTACH;FMTTYPE=image/jpeg:https://www.oldwestburygardens.org/wp-content/uploads/2025/05/85.jpg
END:VEVENT
BEGIN:VEVENT
DTSTART;TZID=America/New_York:20250621T183000
DTEND;TZID=America/New_York:20250621T213000
DTSTAMP:20260420T230058
CREATED:20250522T004810Z
LAST-MODIFIED:20250522T005751Z
UID:10000898-1750530600-1750541400@www.oldwestburygardens.org
SUMMARY:Midsummer Nights
DESCRIPTION:Art\, Family Fun\, Kids\, Seasonal/Special Events\n\n\n\n\nGuests of all ages are invited to picnic\, stroll\, and relax on one of the longest nights of the year. The Gardens will be illuminated with lanterns and decorated with wreaths and floral arrangements. \n\n\n\nBring a picnic dinner or purchase food and beverages on site from Café in the Woods\, operated by Polka Dot Poundcake of Rockville Centre.  \n\n\n\nTICKETS: \n\n\n\nGates open at 6:00 p.m. \n\n\n\nChildren 6 and under are free \n\n\n\n$22 General Admission/Members 20% off \n\n\n\n$8 Children (ages 7-17)/Member Child 20% off (ages 7-17) \n\n\n\n\n\n\n\n\n\n\n\n\n\n\n\n\n\n\n\npurchase tickets\n\n\n\nBecome a member
URL:https://www.oldwestburygardens.org/event/midsummer-nights-2/
CATEGORIES:Family Fun,Seasonal/Special Events
ATTACH;FMTTYPE=image/jpeg:https://www.oldwestburygardens.org/wp-content/uploads/2025/05/FlowersDecorConcert-16.jpg
END:VEVENT
BEGIN:VEVENT
DTSTART;TZID=America/New_York:20250620T183000
DTEND;TZID=America/New_York:20250620T213000
DTSTAMP:20260420T230058
CREATED:20250522T003953Z
LAST-MODIFIED:20250522T005800Z
UID:10000896-1750444200-1750455000@www.oldwestburygardens.org
SUMMARY:Midsummer Nights
DESCRIPTION:Art\, Family Fun\, Kids\, Seasonal/Special Events\n\n\n\n\n\n\n\n\n\n\n\n\n\n\n\n\n\n\nGuests of all ages are invited to picnic\, stroll\, and relax on one of the longest nights of the year. The Gardens will be illuminated with lanterns and decorated with wreaths and floral arrangements. \n\n\n\nBring a picnic dinner or purchase food and beverages on site from Café in the Woods\, operated by Polka Dot Poundcake of Rockville Centre.  \n\n\n\nTICKETS: \n\n\n\nGates open at 6:00 p.m. \n\n\n\nChildren 6 and under are free \n\n\n\n$22 General Admission/Members 20% off \n\n\n\n$8 Children (ages 7-17)/Member Child 20% off (ages 7-17) \n\n\n\n\n\npurchase tickets\n\n\n\nbecome a member
URL:https://www.oldwestburygardens.org/event/midsummer-nights/
CATEGORIES:Family Fun,Seasonal/Special Events
ATTACH;FMTTYPE=image/jpeg:https://www.oldwestburygardens.org/wp-content/uploads/2025/05/87rev.jpg
END:VEVENT
BEGIN:VEVENT
DTSTART;TZID=America/New_York:20250619T103000
DTEND;TZID=America/New_York:20250619T113000
DTSTAMP:20260420T230058
CREATED:20250530T214158Z
LAST-MODIFIED:20250530T214200Z
UID:10000922-1750329000-1750332600@www.oldwestburygardens.org
SUMMARY:Juneteenth Celebration! Storybook Stroll: A Flag for Juneteenth by Kim Taylor
DESCRIPTION:Art\, Family Fun\, Kids\, Seasonal/Special Events\n\n\n\n\nJoin us for a stroll through the Gardens as we share the story of Juneteenth with A Flag for Juneteenth by Kim Taylor and a quilting inspired craft based on the story. Storybook Strolls start at the Beech Tree (next to Westbury House)\, the book is read at the Thatched Cottage\, and the tour will end at The Barn at Orchard Hill with a paper quilting craft. \n\n\n\nLocation: The Beech Tree \n\n\n\nAges 3-5 \n\n\n\nIncluded with admission.
URL:https://www.oldwestburygardens.org/event/juneteenth-celebration-storybook-stroll-a-flag-for-juneteenth-by-kim-taylor-2/
CATEGORIES:Family Fun
ATTACH;FMTTYPE=image/jpeg:https://www.oldwestburygardens.org/wp-content/uploads/2025/05/91SNRncR2JL._AC_UF10001000_QL80_.jpg
END:VEVENT
BEGIN:VEVENT
DTSTART;TZID=America/New_York:20250618T163000
DTEND;TZID=America/New_York:20250618T173000
DTSTAMP:20260420T230058
CREATED:20250521T011355Z
LAST-MODIFIED:20250618T152138Z
UID:10000893-1750264200-1750267800@www.oldwestburygardens.org
SUMMARY:Juneteenth Celebration! Storybook Stroll: A Flag for Juneteenth by Kim Taylor
DESCRIPTION:Art\, Family Fun\, Kids\, Seasonal/Special Events\n\n\n\n\nJoin us for a stroll through the Gardens as we share the story of Juneteenth with A Flag for Juneteenth by Kim Taylor and a quilting inspired craft based on the story. Storybook Strolls start at the Beech Tree (next to Westbury House)\, the book is read at the Thatched Cottage\, and the tour will end at The Barn at Orchard Hill with a paper quilting craft. \n\n\n\nLocation UPDATE: The Beech Tree THIS EVENT WILL NOW TAKE PLACE IN THE BARN AT ORCHARD HILL \n\n\n\nRain Update: This Event Will Take Place at the Barn at Orchard Hill. \n\n\n\nAges 3-5 \n\n\n\nIncluded with admission.
URL:https://www.oldwestburygardens.org/event/juneteenth-celebration-storybook-stroll-a-flag-for-juneteenth-by-kim-taylor/
CATEGORIES:Family Fun
ATTACH;FMTTYPE=image/jpeg:https://www.oldwestburygardens.org/wp-content/uploads/2025/05/91SNRncR2JL._AC_UF10001000_QL80_.jpg
END:VEVENT
BEGIN:VEVENT
DTSTART;TZID=UTC:20250616T103000
DTEND;TZID=UTC:20250616T113000
DTSTAMP:20260420T230058
CREATED:20250616T130828Z
LAST-MODIFIED:20250616T130829Z
UID:10000866-1750069800-1750073400@www.oldwestburygardens.org
SUMMARY:SOLD OUT! Late Spring Tiny Gardeners Program
DESCRIPTION:Art\, Family Fun\, Kids\, Seasonal/Special Events\n\n\n\n\nChildren ages 2- 3 are invited with caregivers for an interactive and engaging late morning program to learn through play with natural outdoor themes. Music\, movement\, and foundational gardening skills are introduced and developed during educator led sensory activities centered around flowers and plants growing in Early Spring. Caregivers and children experience the Gardens side by side through guided exploration with opportunities to plant in our Tiny Community Garden \, and plant flowers and herbs to care for and bring home with Tiny Gardeners. \n\n\n\nThis is a 5 week every Monday all weather program using an indoor space as needed.   \n\n\n\nAges 2-3\, Pre-registration is required and extremely limited.  $150 non-member child/ 20% discount for members. One (1) adult included with registration.
URL:https://www.oldwestburygardens.org/event/sold-out-late-spring-tiny-gardeners-program/
CATEGORIES:Family Fun
ATTACH;FMTTYPE=image/png:https://www.oldwestburygardens.org/wp-content/uploads/2025/05/LateSpringTH.png
END:VEVENT
BEGIN:VEVENT
DTSTART;TZID=UTC:20250609T103000
DTEND;TZID=UTC:20250609T113000
DTSTAMP:20260420T230058
CREATED:20250509T003919Z
LAST-MODIFIED:20250530T195018Z
UID:10000865-1749465000-1749468600@www.oldwestburygardens.org
SUMMARY:SOLD OUT! Late Spring Tiny Gardeners Program
DESCRIPTION:Art\, Family Fun\, Kids\, Seasonal/Special Events\n\n\n\n\nChildren ages 2- 3 are invited with caregivers for an interactive and engaging late morning program to learn through play with natural outdoor themes. Music\, movement\, and foundational gardening skills are introduced and developed during educator led sensory activities centered around flowers and plants growing in Early Spring. Caregivers and children experience the Gardens side by side through guided exploration with opportunities to plant in our Tiny Community Garden \, and plant flowers and herbs to care for and bring home with Tiny Gardeners. \n\n\n\nThis is a 5 week every Monday all weather program using an indoor space as needed.   \n\n\n\nAges 2-3\, Pre-registration is required and extremely limited.  $150 non-member child/ 20% discount for members. One (1) adult included with registration.
URL:https://www.oldwestburygardens.org/event/late-spring-tiny-gardeners-program/2025-06-09/
CATEGORIES:Family Fun
ATTACH;FMTTYPE=image/png:https://www.oldwestburygardens.org/wp-content/uploads/2025/05/LateSpringTH.png
END:VEVENT
BEGIN:VEVENT
DTSTART;TZID=America/New_York:20250608T120000
DTEND;TZID=America/New_York:20250608T140000
DTSTAMP:20260420T230058
CREATED:20250521T010810Z
LAST-MODIFIED:20250523T222237Z
UID:10000886-1749384000-1749391200@www.oldwestburygardens.org
SUMMARY:Paint a Mini Masterpiece Drop In Craft!
DESCRIPTION:Art\, Family Fun\, Kids\, Seasonal/Special Events\n\n\n\n\nCreate your own masterpiece! Purchase a mini canvas\, paint with provided supplies\, and take home your art along with a mini easel for display. Perfect for all skill levels! \n\n\n\nLocation: In Front of Westbury House \n\n\n\nAll Ages\, $5 Supply Fee\, (General Admission Required).
URL:https://www.oldwestburygardens.org/event/paint-a-mini-masterpiece-drop-in-craft-2/
CATEGORIES:Family Fun
ATTACH;FMTTYPE=image/jpeg:https://www.oldwestburygardens.org/wp-content/uploads/2025/05/AdobeStock_1330246434.jpeg
END:VEVENT
BEGIN:VEVENT
DTSTART;TZID=America/New_York:20250608T100000
DTEND;TZID=America/New_York:20250608T170000
DTSTAMP:20260420T230058
CREATED:20250521T010649Z
LAST-MODIFIED:20250523T211731Z
UID:10000885-1749376800-1749402000@www.oldwestburygardens.org
SUMMARY:Garden Gallery Quest Scavenger Hunt - All Day Event!
DESCRIPTION:Art\, Family Fun\, Kids\, Seasonal/Special Events\n\n\n\n\nEnjoy a day of artistic exploration as you stroll through the gardens in search of some of the most famous paintings  hidden throughout the grounds. The hunt is ongoing from 10 AM to 5 PM—find them all and return to Westbury House to claim a special gift! \n\n\n\nAll Ages\, Free with admission
URL:https://www.oldwestburygardens.org/event/garden-gallery-quest-scavenger-hunt-all-day-event-2/
CATEGORIES:Family Fun
ATTACH;FMTTYPE=image/jpeg:https://www.oldwestburygardens.org/wp-content/uploads/2025/05/AdobeStock_456891489.jpeg
END:VEVENT
BEGIN:VEVENT
DTSTART;TZID=America/New_York:20250607T120000
DTEND;TZID=America/New_York:20250607T140000
DTSTAMP:20260420T230058
CREATED:20250521T010027Z
LAST-MODIFIED:20250606T203742Z
UID:10000883-1749297600-1749304800@www.oldwestburygardens.org
SUMMARY:CANCELLED! Paint a Mini Masterpiece Drop In Craft
DESCRIPTION:Art\, Family Fun\, Kids\, Seasonal/Special Events\n\n\n\n\nCreate your own masterpiece! Purchase a mini canvas\, paint with provided supplies\, and take home your art along with a mini easel for display. Perfect for all skill levels! \n\n\n\nLocation: In Front of Westbury House \n\n\n\nAll Ages\, $5 Supply Fee\, (General Admission Required).
URL:https://www.oldwestburygardens.org/event/paint-a-mini-masterpiece-drop-in-craft/
CATEGORIES:Family Fun
ATTACH;FMTTYPE=image/jpeg:https://www.oldwestburygardens.org/wp-content/uploads/2025/05/AdobeStock_1330246434.jpeg
END:VEVENT
BEGIN:VEVENT
DTSTART;TZID=America/New_York:20250607T103000
DTEND;TZID=America/New_York:20250607T113000
DTSTAMP:20260420T230058
CREATED:20250520T203722Z
LAST-MODIFIED:20250606T203936Z
UID:10000881-1749292200-1749295800@www.oldwestburygardens.org
SUMMARY:Storybook Stroll: Let's Paint by Gabriel Alborozo
DESCRIPTION:Art\, Family Fun\, Kids\, Seasonal/Special Events\n\n\n\n\nJoin us for a stroll through the Gardens as we share a story and create a take-home craft. Storybook Strolls start at the Beech Tree (next to Westbury House)\, and end at the Thatched Cottage. \n\n\n\nLocation: The Beech Tree (In case of rain\, will be held in the Red Ballroom.) \n\n\n\nAges 3-5\,  Pre-registration Required\, includes one Child and one Adult General Admission. Free For Members! \n\n\n\n\n\nregister
URL:https://www.oldwestburygardens.org/event/storybook-stroll-lets-paint-by-gabriel-alborozo/
CATEGORIES:Family Fun
ATTACH;FMTTYPE=image/jpeg:https://www.oldwestburygardens.org/wp-content/uploads/2025/05/813UT-eaZL._AC_UF350350_QL50_.jpg
END:VEVENT
BEGIN:VEVENT
DTSTART;TZID=America/New_York:20250607T100000
DTEND;TZID=America/New_York:20250607T170000
DTSTAMP:20260420T230058
CREATED:20250520T203515Z
LAST-MODIFIED:20250523T211703Z
UID:10000880-1749290400-1749315600@www.oldwestburygardens.org
SUMMARY:Garden Gallery Quest Scavenger Hunt - All Day Event!
DESCRIPTION:Art\, Family Fun\, Kids\, Seasonal/Special Events\n\n\n\n\nEnjoy a day of artistic exploration as you stroll through the gardens in search of some of the most famous paintings  hidden throughout the grounds. The hunt is ongoing from 10 AM to 5 PM—find them all and return to Westbury House to claim a special gift! \n\n\n\nAll Ages\, Included with admission
URL:https://www.oldwestburygardens.org/event/garden-gallery-quest-scavenger-hunt-all-day-event/
CATEGORIES:Family Fun
ATTACH;FMTTYPE=image/jpeg:https://www.oldwestburygardens.org/wp-content/uploads/2025/05/AdobeStock_456891489.jpeg
END:VEVENT
BEGIN:VEVENT
DTSTART;TZID=America/New_York:20250605T203000
DTEND;TZID=America/New_York:20250605T220000
DTSTAMP:20260420T230058
CREATED:20250516T182627Z
LAST-MODIFIED:20250605T135742Z
UID:10000286-1749155400-1749160800@www.oldwestburygardens.org
SUMMARY:CANCELLED! Stargazers
DESCRIPTION:Art\, Family Fun\, Kids\, Seasonal/Special Events\n\n\n\n\nTHIS EVENT HAS BEEN CANCELLED FOR TONIGHT AND TOMORROW NIGHT’S CLOUD DATE.  \n\n\n\nJoin members of the Astronomical Society of Long Island for a nighttime skywatching session. asliclub.org \n\n\n\nAll Ages. Free Event! Gates open at 8pm. \n\n\n\nCLOUD/RAIN DATE FRIDAY\, 6/6 
URL:https://www.oldwestburygardens.org/event/stargazers/
CATEGORIES:Family Fun
ATTACH;FMTTYPE=image/jpeg:https://www.oldwestburygardens.org/wp-content/uploads/2025/05/Stargazers14.jpg
END:VEVENT
BEGIN:VEVENT
DTSTART;TZID=UTC:20250602T103000
DTEND;TZID=UTC:20250602T113000
DTSTAMP:20260420T230058
CREATED:20250509T003919Z
LAST-MODIFIED:20250530T195018Z
UID:10000026-1748860200-1748863800@www.oldwestburygardens.org
SUMMARY:SOLD OUT! Late Spring Tiny Gardeners Program
DESCRIPTION:Art\, Family Fun\, Kids\, Seasonal/Special Events\n\n\n\n\nChildren ages 2- 3 are invited with caregivers for an interactive and engaging late morning program to learn through play with natural outdoor themes. Music\, movement\, and foundational gardening skills are introduced and developed during educator led sensory activities centered around flowers and plants growing in Early Spring. Caregivers and children experience the Gardens side by side through guided exploration with opportunities to plant in our Tiny Community Garden \, and plant flowers and herbs to care for and bring home with Tiny Gardeners. \n\n\n\nThis is a 5 week every Monday all weather program using an indoor space as needed.   \n\n\n\nAges 2-3\, Pre-registration is required and extremely limited.  $150 non-member child/ 20% discount for members. One (1) adult included with registration.
URL:https://www.oldwestburygardens.org/event/late-spring-tiny-gardeners-program/2025-06-02/
CATEGORIES:Family Fun
ATTACH;FMTTYPE=image/png:https://www.oldwestburygardens.org/wp-content/uploads/2025/05/LateSpringTH.png
END:VEVENT
END:VCALENDAR