BEGIN:VCALENDAR
VERSION:2.0
PRODID:-//Old Westbury Gardens - ECPv6.15.10//NONSGML v1.0//EN
CALSCALE:GREGORIAN
METHOD:PUBLISH
X-ORIGINAL-URL:https://www.oldwestburygardens.org
X-WR-CALDESC:Events for Old Westbury Gardens
REFRESH-INTERVAL;VALUE=DURATION:PT1H
X-Robots-Tag:noindex
X-PUBLISHED-TTL:PT1H
BEGIN:VTIMEZONE
TZID:America/New_York
BEGIN:DAYLIGHT
TZOFFSETFROM:-0500
TZOFFSETTO:-0400
TZNAME:EDT
DTSTART:20240310T070000
END:DAYLIGHT
BEGIN:STANDARD
TZOFFSETFROM:-0400
TZOFFSETTO:-0500
TZNAME:EST
DTSTART:20241103T060000
END:STANDARD
BEGIN:DAYLIGHT
TZOFFSETFROM:-0500
TZOFFSETTO:-0400
TZNAME:EDT
DTSTART:20250309T070000
END:DAYLIGHT
BEGIN:STANDARD
TZOFFSETFROM:-0400
TZOFFSETTO:-0500
TZNAME:EST
DTSTART:20251102T060000
END:STANDARD
BEGIN:DAYLIGHT
TZOFFSETFROM:-0500
TZOFFSETTO:-0400
TZNAME:EDT
DTSTART:20260308T070000
END:DAYLIGHT
BEGIN:STANDARD
TZOFFSETFROM:-0400
TZOFFSETTO:-0500
TZNAME:EST
DTSTART:20261101T060000
END:STANDARD
END:VTIMEZONE
BEGIN:VTIMEZONE
TZID:UTC
BEGIN:STANDARD
TZOFFSETFROM:+0000
TZOFFSETTO:+0000
TZNAME:UTC
DTSTART:20240101T000000
END:STANDARD
END:VTIMEZONE
BEGIN:VEVENT
DTSTART;TZID=America/New_York:20250608T120000
DTEND;TZID=America/New_York:20250608T140000
DTSTAMP:20260421T003912
CREATED:20250521T010810Z
LAST-MODIFIED:20250523T222237Z
UID:10000886-1749384000-1749391200@www.oldwestburygardens.org
SUMMARY:Paint a Mini Masterpiece Drop In Craft!
DESCRIPTION:Family Fun\, Seasonal/Special Events\n\n\n\n\nCreate your own masterpiece! Purchase a mini canvas\, paint with provided supplies\, and take home your art along with a mini easel for display. Perfect for all skill levels! \n\n\n\nLocation: In Front of Westbury House \n\n\n\nAll Ages\, $5 Supply Fee\, (General Admission Required).
URL:https://www.oldwestburygardens.org/event/paint-a-mini-masterpiece-drop-in-craft-2/
CATEGORIES:Family Fun
ATTACH;FMTTYPE=image/jpeg:https://www.oldwestburygardens.org/wp-content/uploads/2025/05/AdobeStock_1330246434.jpeg
END:VEVENT
BEGIN:VEVENT
DTSTART;TZID=America/New_York:20250608T100000
DTEND;TZID=America/New_York:20250608T170000
DTSTAMP:20260421T003912
CREATED:20250521T010649Z
LAST-MODIFIED:20250523T211731Z
UID:10000885-1749376800-1749402000@www.oldwestburygardens.org
SUMMARY:Garden Gallery Quest Scavenger Hunt - All Day Event!
DESCRIPTION:Family Fun\, Seasonal/Special Events\n\n\n\n\nEnjoy a day of artistic exploration as you stroll through the gardens in search of some of the most famous paintings  hidden throughout the grounds. The hunt is ongoing from 10 AM to 5 PM—find them all and return to Westbury House to claim a special gift! \n\n\n\nAll Ages\, Free with admission
URL:https://www.oldwestburygardens.org/event/garden-gallery-quest-scavenger-hunt-all-day-event-2/
CATEGORIES:Family Fun
ATTACH;FMTTYPE=image/jpeg:https://www.oldwestburygardens.org/wp-content/uploads/2025/05/AdobeStock_456891489.jpeg
END:VEVENT
BEGIN:VEVENT
DTSTART;TZID=America/New_York:20250607T120000
DTEND;TZID=America/New_York:20250607T140000
DTSTAMP:20260421T003912
CREATED:20250521T010027Z
LAST-MODIFIED:20250606T203742Z
UID:10000883-1749297600-1749304800@www.oldwestburygardens.org
SUMMARY:CANCELLED! Paint a Mini Masterpiece Drop In Craft
DESCRIPTION:Family Fun\, Seasonal/Special Events\n\n\n\n\nCreate your own masterpiece! Purchase a mini canvas\, paint with provided supplies\, and take home your art along with a mini easel for display. Perfect for all skill levels! \n\n\n\nLocation: In Front of Westbury House \n\n\n\nAll Ages\, $5 Supply Fee\, (General Admission Required).
URL:https://www.oldwestburygardens.org/event/paint-a-mini-masterpiece-drop-in-craft/
CATEGORIES:Family Fun
ATTACH;FMTTYPE=image/jpeg:https://www.oldwestburygardens.org/wp-content/uploads/2025/05/AdobeStock_1330246434.jpeg
END:VEVENT
BEGIN:VEVENT
DTSTART;TZID=America/New_York:20250607T103000
DTEND;TZID=America/New_York:20250607T113000
DTSTAMP:20260421T003912
CREATED:20250520T203722Z
LAST-MODIFIED:20250606T203936Z
UID:10000881-1749292200-1749295800@www.oldwestburygardens.org
SUMMARY:Storybook Stroll: Let's Paint by Gabriel Alborozo
DESCRIPTION:Family Fun\, Seasonal/Special Events\n\n\n\n\nJoin us for a stroll through the Gardens as we share a story and create a take-home craft. Storybook Strolls start at the Beech Tree (next to Westbury House)\, and end at the Thatched Cottage. \n\n\n\nLocation: The Beech Tree (In case of rain\, will be held in the Red Ballroom.) \n\n\n\nAges 3-5\,  Pre-registration Required\, includes one Child and one Adult General Admission. Free For Members! \n\n\n\n\n\nregister
URL:https://www.oldwestburygardens.org/event/storybook-stroll-lets-paint-by-gabriel-alborozo/
CATEGORIES:Family Fun
ATTACH;FMTTYPE=image/jpeg:https://www.oldwestburygardens.org/wp-content/uploads/2025/05/813UT-eaZL._AC_UF350350_QL50_.jpg
END:VEVENT
BEGIN:VEVENT
DTSTART;TZID=America/New_York:20250607T100000
DTEND;TZID=America/New_York:20250607T170000
DTSTAMP:20260421T003912
CREATED:20250520T203515Z
LAST-MODIFIED:20250523T211703Z
UID:10000880-1749290400-1749315600@www.oldwestburygardens.org
SUMMARY:Garden Gallery Quest Scavenger Hunt - All Day Event!
DESCRIPTION:Family Fun\, Seasonal/Special Events\n\n\n\n\nEnjoy a day of artistic exploration as you stroll through the gardens in search of some of the most famous paintings  hidden throughout the grounds. The hunt is ongoing from 10 AM to 5 PM—find them all and return to Westbury House to claim a special gift! \n\n\n\nAll Ages\, Included with admission
URL:https://www.oldwestburygardens.org/event/garden-gallery-quest-scavenger-hunt-all-day-event/
CATEGORIES:Family Fun
ATTACH;FMTTYPE=image/jpeg:https://www.oldwestburygardens.org/wp-content/uploads/2025/05/AdobeStock_456891489.jpeg
END:VEVENT
BEGIN:VEVENT
DTSTART;TZID=America/New_York:20250605T203000
DTEND;TZID=America/New_York:20250605T220000
DTSTAMP:20260421T003912
CREATED:20250516T182627Z
LAST-MODIFIED:20250605T135742Z
UID:10000286-1749155400-1749160800@www.oldwestburygardens.org
SUMMARY:CANCELLED! Stargazers
DESCRIPTION:Family Fun\, Seasonal/Special Events\n\n\n\n\nTHIS EVENT HAS BEEN CANCELLED FOR TONIGHT AND TOMORROW NIGHT’S CLOUD DATE.  \n\n\n\nJoin members of the Astronomical Society of Long Island for a nighttime skywatching session. asliclub.org \n\n\n\nAll Ages. Free Event! Gates open at 8pm. \n\n\n\nCLOUD/RAIN DATE FRIDAY\, 6/6 
URL:https://www.oldwestburygardens.org/event/stargazers/
CATEGORIES:Family Fun
ATTACH;FMTTYPE=image/jpeg:https://www.oldwestburygardens.org/wp-content/uploads/2025/05/Stargazers14.jpg
END:VEVENT
BEGIN:VEVENT
DTSTART;TZID=UTC:20250602T103000
DTEND;TZID=UTC:20250602T113000
DTSTAMP:20260421T003912
CREATED:20250509T003919Z
LAST-MODIFIED:20250530T195018Z
UID:10000026-1748860200-1748863800@www.oldwestburygardens.org
SUMMARY:SOLD OUT! Late Spring Tiny Gardeners Program
DESCRIPTION:Family Fun\, Seasonal/Special Events\n\n\n\n\nChildren ages 2- 3 are invited with caregivers for an interactive and engaging late morning program to learn through play with natural outdoor themes. Music\, movement\, and foundational gardening skills are introduced and developed during educator led sensory activities centered around flowers and plants growing in Early Spring. Caregivers and children experience the Gardens side by side through guided exploration with opportunities to plant in our Tiny Community Garden \, and plant flowers and herbs to care for and bring home with Tiny Gardeners. \n\n\n\nThis is a 5 week every Monday all weather program using an indoor space as needed.   \n\n\n\nAges 2-3\, Pre-registration is required and extremely limited.  $150 non-member child/ 20% discount for members. One (1) adult included with registration.
URL:https://www.oldwestburygardens.org/event/late-spring-tiny-gardeners-program/2025-06-02/
CATEGORIES:Family Fun
ATTACH;FMTTYPE=image/png:https://www.oldwestburygardens.org/wp-content/uploads/2025/05/LateSpringTH.png
END:VEVENT
END:VCALENDAR