BEGIN:VCALENDAR
VERSION:2.0
PRODID:-//Old Westbury Gardens - ECPv6.15.10//NONSGML v1.0//EN
CALSCALE:GREGORIAN
METHOD:PUBLISH
X-ORIGINAL-URL:https://www.oldwestburygardens.org
X-WR-CALDESC:Events for Old Westbury Gardens
REFRESH-INTERVAL;VALUE=DURATION:PT1H
X-Robots-Tag:noindex
X-PUBLISHED-TTL:PT1H
BEGIN:VTIMEZONE
TZID:America/New_York
BEGIN:DAYLIGHT
TZOFFSETFROM:-0500
TZOFFSETTO:-0400
TZNAME:EDT
DTSTART:20240310T070000
END:DAYLIGHT
BEGIN:STANDARD
TZOFFSETFROM:-0400
TZOFFSETTO:-0500
TZNAME:EST
DTSTART:20241103T060000
END:STANDARD
BEGIN:DAYLIGHT
TZOFFSETFROM:-0500
TZOFFSETTO:-0400
TZNAME:EDT
DTSTART:20250309T070000
END:DAYLIGHT
BEGIN:STANDARD
TZOFFSETFROM:-0400
TZOFFSETTO:-0500
TZNAME:EST
DTSTART:20251102T060000
END:STANDARD
BEGIN:DAYLIGHT
TZOFFSETFROM:-0500
TZOFFSETTO:-0400
TZNAME:EDT
DTSTART:20260308T070000
END:DAYLIGHT
BEGIN:STANDARD
TZOFFSETFROM:-0400
TZOFFSETTO:-0500
TZNAME:EST
DTSTART:20261101T060000
END:STANDARD
END:VTIMEZONE
BEGIN:VEVENT
DTSTART;TZID=America/New_York:20251101T100000
DTEND;TZID=America/New_York:20251101T160000
DTSTAMP:20260421T111713
CREATED:20251028T200251Z
LAST-MODIFIED:20251028T200252Z
UID:10001119-1761991200-1762012800@www.oldwestburygardens.org
SUMMARY:The Gardens are Open Today
DESCRIPTION:Tours\n\n\n\n\nThe Gardens and Westbury House are open for general admission on weekends only for the next four weekends in November. Come see the season’s final flourish before we prepare for the holidays ahead.
URL:https://www.oldwestburygardens.org/event/the-gardens-are-open-today/2025-11-01/
CATEGORIES:Seasonal/Special Events
ATTACH;FMTTYPE=image/jpeg:https://www.oldwestburygardens.org/wp-content/uploads/2025/10/IMG_1556-scaled.jpg
END:VEVENT
BEGIN:VEVENT
DTSTART;TZID=America/New_York:20251102T100000
DTEND;TZID=America/New_York:20251102T160000
DTSTAMP:20260421T111713
CREATED:20251105T194202Z
LAST-MODIFIED:20251105T194203Z
UID:10001120-1762077600-1762099200@www.oldwestburygardens.org
SUMMARY:The Gardens are Open Today
DESCRIPTION:Tours\n\n\n\n\nThe Gardens and Westbury House are open for general admission on weekends only for the next four weekends in November. Come see the season’s final flourish before we prepare for the holidays ahead.
URL:https://www.oldwestburygardens.org/event/the-gardens-are-open-today-6/
CATEGORIES:Seasonal/Special Events
ATTACH;FMTTYPE=image/jpeg:https://www.oldwestburygardens.org/wp-content/uploads/2025/10/IMG_7947-scaled.jpg
END:VEVENT
BEGIN:VEVENT
DTSTART;TZID=America/New_York:20251102T133000
DTEND;TZID=America/New_York:20251102T143000
DTSTAMP:20260421T111713
CREATED:20251027T140803Z
LAST-MODIFIED:20251027T140805Z
UID:10000971-1762090200-1762093800@www.oldwestburygardens.org
SUMMARY:Secrets of the Service Wing Tour
DESCRIPTION:Tours\n\n\n\n\nTickets for this tour include access to Westbury House and the gardens. All tickets are non-refundable. \n\n\n\nFor many years visitors to Westbury House asked what was beyond the first-floor corridor. Now they can go beyond the door and discover “secrets of the service wing.” \n\n\n\nIn this 60-minute guided tour you’ll be introduced to the intensive labor required to create the lifestyle experienced by the Phipps and their guests. You’ll tour the many rooms that were “behind the scenes” to create the formal dining experiences of the social peers of the Phippses in the early 20th century. You’ll go along the corridors to the butler’s pantry and silver cleaning room then descend the 17 steps to the kitchen\, scullery\, and wine storage rooms located on the ground floor. \n\n\n\nThis tour lasts a little over one hour and because of its physical demands\, it is not recommended for individuals with limited mobility or children under 8 years of age. This tour requires descending a narrow staircase of 17 steps down to the ground floor/basement\, so no person (including children and infants) may be lifted or carried throughout the tour. \n\n\n\n\n\npurchase tickets
URL:https://www.oldwestburygardens.org/event/secrets-of-the-service-wing-tour-99/
CATEGORIES:Tours
ATTACH;FMTTYPE=image/jpeg:https://www.oldwestburygardens.org/wp-content/uploads/2025/05/6_DSC_1165.jpg
END:VEVENT
BEGIN:VEVENT
DTSTART;TZID=America/New_York:20251102T143000
DTEND;TZID=America/New_York:20251102T153000
DTSTAMP:20260421T111713
CREATED:20251027T140115Z
LAST-MODIFIED:20251027T140117Z
UID:10000946-1762093800-1762097400@www.oldwestburygardens.org
SUMMARY:Secrets of the Service Wing Tour
DESCRIPTION:Tours\n\n\n\n\nTickets for this tour include access to Westbury House and the gardens. All tickets are non-refundable. \n\n\n\nFor many years visitors to Westbury House asked what was beyond the first-floor corridor. Now they can go beyond the door and discover “secrets of the service wing.” \n\n\n\nIn this 60-minute guided tour you’ll be introduced to the intensive labor required to create the lifestyle experienced by the Phipps and their guests. You’ll tour the many rooms that were “behind the scenes” to create the formal dining experiences of the social peers of the Phippses in the early 20th century. You’ll go along the corridors to the butler’s pantry and silver cleaning room then descend the 17 steps to the kitchen\, scullery\, and wine storage rooms located on the ground floor. \n\n\n\nThis tour lasts a little over one hour and because of its physical demands\, it is not recommended for individuals with limited mobility or children under 8 years of age. This tour requires descending a narrow staircase of 17 steps down to the ground floor/basement\, so no person (including children and infants) may be lifted or carried throughout the tour. \n\n\n\n\n\npurchase tickets
URL:https://www.oldwestburygardens.org/event/secrets-of-the-service-wing-tour-96/
CATEGORIES:Tours
ATTACH;FMTTYPE=image/jpeg:https://www.oldwestburygardens.org/wp-content/uploads/2025/05/6_DSC_1165.jpg
END:VEVENT
BEGIN:VEVENT
DTSTART;TZID=America/New_York:20251108T100000
DTEND;TZID=America/New_York:20251108T150000
DTSTAMP:20260421T111713
CREATED:20251030T164924Z
LAST-MODIFIED:20251105T194311Z
UID:10001128-1762596000-1762614000@www.oldwestburygardens.org
SUMMARY:The Gardens are Open Today
DESCRIPTION:Tours\n\n\n\n\nThe Gardens and Westbury House are open for general admission on weekends only for the next four weekends in November. Come see the season’s final flourish before we prepare for the holidays ahead. \n\n\n\nPlease note that Westbury House will close at 3pm today for a private event.
URL:https://www.oldwestburygardens.org/event/the-gardens-are-open-today-2/
CATEGORIES:Seasonal/Special Events
ATTACH;FMTTYPE=image/jpeg:https://www.oldwestburygardens.org/wp-content/uploads/2025/10/IMG_7947-scaled.jpg
END:VEVENT
BEGIN:VEVENT
DTSTART;TZID=America/New_York:20251109T100000
DTEND;TZID=America/New_York:20251109T160000
DTSTAMP:20260421T111713
CREATED:20251103T193331Z
LAST-MODIFIED:20251105T194617Z
UID:10001122-1762682400-1762704000@www.oldwestburygardens.org
SUMMARY:The Gardens are Open Today | Westbury House is Closed
DESCRIPTION:Tours\n\n\n\n\nDue to an event\, Westbury House will be closed today. However\, the gardens and grounds will be open for general admission. There will be reduced admission fees for this day. Come see the season’s final flourish before we prepare for the holidays ahead.
URL:https://www.oldwestburygardens.org/event/the-gardens-are-open-today-5/
CATEGORIES:Seasonal/Special Events
ATTACH;FMTTYPE=image/jpeg:https://www.oldwestburygardens.org/wp-content/uploads/2025/11/IMG_7933-scaled.jpg
END:VEVENT
BEGIN:VEVENT
DTSTART;TZID=America/New_York:20251109T133000
DTEND;TZID=America/New_York:20251109T143000
DTSTAMP:20260421T111713
CREATED:20251027T140920Z
LAST-MODIFIED:20251103T194130Z
UID:10000972-1762695000-1762698600@www.oldwestburygardens.org
SUMMARY:Secrets of the Service Wing Tour
DESCRIPTION:Tours\n\n\n\n\nTickets for this tour include access to Westbury House and the gardens. All tickets are non-refundable. \n\n\n\nFor many years visitors to Westbury House asked what was beyond the first-floor corridor. Now they can go beyond the door and discover “secrets of the service wing.” \n\n\n\nIn this 60-minute guided tour you’ll be introduced to the intensive labor required to create the lifestyle experienced by the Phipps and their guests. You’ll tour the many rooms that were “behind the scenes” to create the formal dining experiences of the social peers of the Phippses in the early 20th century. You’ll go along the corridors to the butler’s pantry and silver cleaning room then descend the 17 steps to the kitchen\, scullery\, and wine storage rooms located on the ground floor. \n\n\n\nThis tour lasts a little over one hour and because of its physical demands\, it is not recommended for individuals with limited mobility or children under 8 years of age. This tour requires descending a narrow staircase of 17 steps down to the ground floor/basement\, so no person (including children and infants) may be lifted or carried throughout the tour.
URL:https://www.oldwestburygardens.org/event/secrets-of-the-service-wing-tour-100/
CATEGORIES:Tours
ATTACH;FMTTYPE=image/jpeg:https://www.oldwestburygardens.org/wp-content/uploads/2025/05/6_DSC_1165.jpg
END:VEVENT
BEGIN:VEVENT
DTSTART;TZID=America/New_York:20251109T143000
DTEND;TZID=America/New_York:20251109T153000
DTSTAMP:20260421T111713
CREATED:20251027T140325Z
LAST-MODIFIED:20251103T194222Z
UID:10000947-1762698600-1762702200@www.oldwestburygardens.org
SUMMARY:Secrets of the Service Wing Tour
DESCRIPTION:Tours\n\n\n\n\nTickets for this tour include access to Westbury House and the gardens. All tickets are non-refundable. \n\n\n\nFor many years visitors to Westbury House asked what was beyond the first-floor corridor. Now they can go beyond the door and discover “secrets of the service wing.” \n\n\n\nIn this 60-minute guided tour you’ll be introduced to the intensive labor required to create the lifestyle experienced by the Phipps and their guests. You’ll tour the many rooms that were “behind the scenes” to create the formal dining experiences of the social peers of the Phippses in the early 20th century. You’ll go along the corridors to the butler’s pantry and silver cleaning room then descend the 17 steps to the kitchen\, scullery\, and wine storage rooms located on the ground floor. \n\n\n\nThis tour lasts a little over one hour and because of its physical demands\, it is not recommended for individuals with limited mobility or children under 8 years of age. This tour requires descending a narrow staircase of 17 steps down to the ground floor/basement\, so no person (including children and infants) may be lifted or carried throughout the tour.
URL:https://www.oldwestburygardens.org/event/secrets-of-the-service-wing-tour-97/
CATEGORIES:Tours
ATTACH;FMTTYPE=image/jpeg:https://www.oldwestburygardens.org/wp-content/uploads/2025/05/6_DSC_1165.jpg
END:VEVENT
BEGIN:VEVENT
DTSTART;TZID=America/New_York:20251115T100000
DTEND;TZID=America/New_York:20251115T160000
DTSTAMP:20260421T111713
CREATED:20251028T200901Z
LAST-MODIFIED:20251110T173638Z
UID:10001123-1763200800-1763222400@www.oldwestburygardens.org
SUMMARY:The Gardens are Open Today
DESCRIPTION:Tours\n\n\n\n\nThe Gardens and Westbury House are open for general admission today. Come see the season’s final flourish before we prepare for the holidays ahead. \n\n\n\nPlease note that Westbury House will close at 3pm today for an event.
URL:https://www.oldwestburygardens.org/event/the-gardens-are-open-today-3/
CATEGORIES:Seasonal/Special Events
ATTACH;FMTTYPE=image/jpeg:https://www.oldwestburygardens.org/wp-content/uploads/2025/10/IMG_1556-scaled.jpg
END:VEVENT
BEGIN:VEVENT
DTSTART;TZID=America/New_York:20251115T160000
DTEND;TZID=America/New_York:20251115T180000
DTSTAMP:20260421T111713
CREATED:20251030T173910Z
LAST-MODIFIED:20251104T144927Z
UID:10001114-1763222400-1763229600@www.oldwestburygardens.org
SUMMARY:Majestic Melodies: An Evening of Piano and Song
DESCRIPTION:Tours\n\n\n\n\nExperience an unforgettable performance as Broadway star Ali Ewoldt and acclaimed pianist Philip Edward Fisher unite for an elegant and emotionally rich concert spanning classical and contemporary favorites. The evening opens with Fisher’s dynamic interpretation of George Gershwin’s Rhapsody in Blue\, a vibrant celebration of American music blending classical brilliance with jazz-inspired flair. \n\n\n\nEwoldt—renowned for her celebrated turn as Christine Daaé in The Phantom of the Opera and acclaimed performances in Les Misérables\, The King and I\, and West Side Story—brings her luminous soprano and heartfelt artistry to the Red Ballroom\, accompanied by Fisher’s virtuosic command of the piano. Together\, they promise a program of grace\, sophistication\, and timeless beauty. Join us for this extraordinary evening in the most elegant of settings. \n\n\n\nThis memorable evening is generously sponsored by Drs. Louis and Julie Pannullo\, whose continued commitment to the arts makes events like Majestic Melodies possible. \n\n\n\nFee: $60pp | Members receive 20% off \n\n\n\n\n\n\n\n\n\nbecome a member
URL:https://www.oldwestburygardens.org/event/majestic-melodies-an-evening-of-piano-and-song/
CATEGORIES:Music,Seasonal/Special Events
ATTACH;FMTTYPE=image/jpeg:https://www.oldwestburygardens.org/wp-content/uploads/2025/10/Majestic-Melodies-November-rev2025.jpg
END:VEVENT
BEGIN:VEVENT
DTSTART;TZID=America/New_York:20251116T100000
DTEND;TZID=America/New_York:20251116T160000
DTSTAMP:20260421T111713
CREATED:20251105T194837Z
LAST-MODIFIED:20251105T194838Z
UID:10001124-1763287200-1763308800@www.oldwestburygardens.org
SUMMARY:The Gardens are Open Today
DESCRIPTION:Tours\n\n\n\n\nThe Gardens and Westbury House are open for general admission on weekends only for the next four weekends in November. Come see the season’s final flourish before we prepare for the holidays ahead.
URL:https://www.oldwestburygardens.org/event/the-gardens-are-open-today-7/
CATEGORIES:Seasonal/Special Events
ATTACH;FMTTYPE=image/jpeg:https://www.oldwestburygardens.org/wp-content/uploads/2025/10/IMG_7943.jpg-rev-scaled.jpg
END:VEVENT
BEGIN:VEVENT
DTSTART;TZID=America/New_York:20251116T133000
DTEND;TZID=America/New_York:20251116T143000
DTSTAMP:20260421T111713
CREATED:20251027T141040Z
LAST-MODIFIED:20251027T141041Z
UID:10000973-1763299800-1763303400@www.oldwestburygardens.org
SUMMARY:Secrets of the Service Wing Tour
DESCRIPTION:Tours\n\n\n\n\nTickets for this tour include access to Westbury House and the gardens. All tickets are non-refundable. \n\n\n\nFor many years visitors to Westbury House asked what was beyond the first-floor corridor. Now they can go beyond the door and discover “secrets of the service wing.” \n\n\n\nIn this 60-minute guided tour you’ll be introduced to the intensive labor required to create the lifestyle experienced by the Phipps and their guests. You’ll tour the many rooms that were “behind the scenes” to create the formal dining experiences of the social peers of the Phippses in the early 20th century. You’ll go along the corridors to the butler’s pantry and silver cleaning room then descend the 17 steps to the kitchen\, scullery\, and wine storage rooms located on the ground floor. \n\n\n\nThis tour lasts a little over one hour and because of its physical demands\, it is not recommended for individuals with limited mobility or children under 8 years of age. This tour requires descending a narrow staircase of 17 steps down to the ground floor/basement\, so no person (including children and infants) may be lifted or carried throughout the tour. \n\n\n\n\n\npurchase tickets
URL:https://www.oldwestburygardens.org/event/secrets-of-the-service-wing-tour-101/
CATEGORIES:Tours
ATTACH;FMTTYPE=image/jpeg:https://www.oldwestburygardens.org/wp-content/uploads/2025/05/6_DSC_1165.jpg
END:VEVENT
BEGIN:VEVENT
DTSTART;TZID=America/New_York:20251120T183000
DTEND;TZID=America/New_York:20251120T200000
DTSTAMP:20260421T111713
CREATED:20251016T195452Z
LAST-MODIFIED:20251117T155647Z
UID:10001082-1763663400-1763668800@www.oldwestburygardens.org
SUMMARY:Champagne & Chopin: A Special Evening with Acclaimed Pianist Julian Gargiulo
DESCRIPTION:Tours\n\n\n\n\nJoin The Friends of Old Westbury Gardens as they present an enchanting evening of music\, elegance\, and celebration. Enjoy a sparkling program featuring internationally acclaimed pianist Julian Gargiulo\, the charismatic “Pianist with the Hair\,” known for blending virtuosity\, humor\, and heartfelt storytelling in his performances. \n\n\n\nSet within the intimate ambiance of the Red Ballroom\, this special concert will pair Champagne and light bites with an unforgettable program of Chopin and other beloved works. \n\n\n\nExperience a night of artistry\, charm\, and conversation among friends—all in support of Old Westbury Gardens. \n\n\n\n\n\n\n\n\n\nbecome a member
URL:https://www.oldwestburygardens.org/event/champagne-chopin-a-special-evening-with-acclaimed-pianist-julian-gargiulo/
CATEGORIES:Music,Seasonal/Special Events
ATTACH;FMTTYPE=image/png:https://www.oldwestburygardens.org/wp-content/uploads/2025/10/Champagne-Chopin-Abbr.png
END:VEVENT
BEGIN:VEVENT
DTSTART;TZID=America/New_York:20251122T100000
DTEND;TZID=America/New_York:20251122T160000
DTSTAMP:20260421T111713
CREATED:20251105T195302Z
LAST-MODIFIED:20251105T195303Z
UID:10001125-1763805600-1763827200@www.oldwestburygardens.org
SUMMARY:The Gardens are Open Today
DESCRIPTION:Tours\n\n\n\n\nThe Gardens and Westbury House are open for general admission on weekends only for the next four weekends in November. Come see the season’s final flourish before we prepare for the holidays ahead.
URL:https://www.oldwestburygardens.org/event/the-gardens-are-open-today-8/
CATEGORIES:Seasonal/Special Events
ATTACH;FMTTYPE=image/jpeg:https://www.oldwestburygardens.org/wp-content/uploads/2025/10/IMG_7934.jpg-rev-scaled-e1762372433877.jpg
END:VEVENT
BEGIN:VEVENT
DTSTART;TZID=America/New_York:20251123T100000
DTEND;TZID=America/New_York:20251123T160000
DTSTAMP:20260421T111713
CREATED:20251028T201000Z
LAST-MODIFIED:20251028T201001Z
UID:10001126-1763892000-1763913600@www.oldwestburygardens.org
SUMMARY:The Gardens are Open Today
DESCRIPTION:Tours\n\n\n\n\nThe Gardens and Westbury House are open for general admission on weekends only for the next four weekends in November. Come see the season’s final flourish before we prepare for the holidays ahead.
URL:https://www.oldwestburygardens.org/event/the-gardens-are-open-today-4/2025-11-23/
CATEGORIES:Seasonal/Special Events
ATTACH;FMTTYPE=image/jpeg:https://www.oldwestburygardens.org/wp-content/uploads/2025/10/IMG_1556-scaled.jpg
END:VEVENT
BEGIN:VEVENT
DTSTART;TZID=America/New_York:20251123T133000
DTEND;TZID=America/New_York:20251123T143000
DTSTAMP:20260421T111713
CREATED:20251027T141220Z
LAST-MODIFIED:20251027T141221Z
UID:10000974-1763904600-1763908200@www.oldwestburygardens.org
SUMMARY:Secrets of the Service Wing Tour
DESCRIPTION:Tours\n\n\n\n\nTickets for this tour include access to Westbury House and the gardens. All tickets are non-refundable. \n\n\n\nFor many years visitors to Westbury House asked what was beyond the first-floor corridor. Now they can go beyond the door and discover “secrets of the service wing.” \n\n\n\nIn this 60-minute guided tour you’ll be introduced to the intensive labor required to create the lifestyle experienced by the Phipps and their guests. You’ll tour the many rooms that were “behind the scenes” to create the formal dining experiences of the social peers of the Phippses in the early 20th century. You’ll go along the corridors to the butler’s pantry and silver cleaning room then descend the 17 steps to the kitchen\, scullery\, and wine storage rooms located on the ground floor. \n\n\n\nThis tour lasts a little over one hour and because of its physical demands\, it is not recommended for individuals with limited mobility or children under 8 years of age. This tour requires descending a narrow staircase of 17 steps down to the ground floor/basement\, so no person (including children and infants) may be lifted or carried throughout the tour. \n\n\n\n\n\npurchase tickets
URL:https://www.oldwestburygardens.org/event/secrets-of-the-service-wing-tour-102/
CATEGORIES:Tours
ATTACH;FMTTYPE=image/jpeg:https://www.oldwestburygardens.org/wp-content/uploads/2025/05/6_DSC_1165.jpg
END:VEVENT
BEGIN:VEVENT
DTSTART;TZID=America/New_York:20251123T143000
DTEND;TZID=America/New_York:20251123T153000
DTSTAMP:20260421T111713
CREATED:20251027T140554Z
LAST-MODIFIED:20251027T140556Z
UID:10000949-1763908200-1763911800@www.oldwestburygardens.org
SUMMARY:Secrets of the Service Wing Tour
DESCRIPTION:Tours\n\n\n\n\nTickets for this tour include access to Westbury House and the gardens. All tickets are non-refundable. \n\n\n\nFor many years visitors to Westbury House asked what was beyond the first-floor corridor. Now they can go beyond the door and discover “secrets of the service wing.” \n\n\n\nIn this 60-minute guided tour you’ll be introduced to the intensive labor required to create the lifestyle experienced by the Phipps and their guests. You’ll tour the many rooms that were “behind the scenes” to create the formal dining experiences of the social peers of the Phippses in the early 20th century. You’ll go along the corridors to the butler’s pantry and silver cleaning room then descend the 17 steps to the kitchen\, scullery\, and wine storage rooms located on the ground floor. \n\n\n\nThis tour lasts a little over one hour and because of its physical demands\, it is not recommended for individuals with limited mobility or children under 8 years of age. This tour requires descending a narrow staircase of 17 steps down to the ground floor/basement\, so no person (including children and infants) may be lifted or carried throughout the tour. \n\n\n\n\n\npurchase tickets
URL:https://www.oldwestburygardens.org/event/secrets-of-the-service-wing-tour-98/
CATEGORIES:Tours
ATTACH;FMTTYPE=image/jpeg:https://www.oldwestburygardens.org/wp-content/uploads/2025/05/6_DSC_1165.jpg
END:VEVENT
END:VCALENDAR