BEGIN:VCALENDAR
VERSION:2.0
PRODID:-//Old Westbury Gardens - ECPv6.15.10//NONSGML v1.0//EN
CALSCALE:GREGORIAN
METHOD:PUBLISH
X-ORIGINAL-URL:https://www.oldwestburygardens.org
X-WR-CALDESC:Events for Old Westbury Gardens
REFRESH-INTERVAL;VALUE=DURATION:PT1H
X-Robots-Tag:noindex
X-PUBLISHED-TTL:PT1H
BEGIN:VTIMEZONE
TZID:America/New_York
BEGIN:DAYLIGHT
TZOFFSETFROM:-0500
TZOFFSETTO:-0400
TZNAME:EDT
DTSTART:20250309T070000
END:DAYLIGHT
BEGIN:STANDARD
TZOFFSETFROM:-0400
TZOFFSETTO:-0500
TZNAME:EST
DTSTART:20251102T060000
END:STANDARD
BEGIN:DAYLIGHT
TZOFFSETFROM:-0500
TZOFFSETTO:-0400
TZNAME:EDT
DTSTART:20260308T070000
END:DAYLIGHT
BEGIN:STANDARD
TZOFFSETFROM:-0400
TZOFFSETTO:-0500
TZNAME:EST
DTSTART:20261101T060000
END:STANDARD
BEGIN:DAYLIGHT
TZOFFSETFROM:-0500
TZOFFSETTO:-0400
TZNAME:EDT
DTSTART:20270314T070000
END:DAYLIGHT
BEGIN:STANDARD
TZOFFSETFROM:-0400
TZOFFSETTO:-0500
TZNAME:EST
DTSTART:20271107T060000
END:STANDARD
END:VTIMEZONE
BEGIN:VTIMEZONE
TZID:UTC
BEGIN:STANDARD
TZOFFSETFROM:+0000
TZOFFSETTO:+0000
TZNAME:UTC
DTSTART:20250101T000000
END:STANDARD
END:VTIMEZONE
BEGIN:VEVENT
DTSTART;TZID=America/New_York:20260516T100000
DTEND;TZID=America/New_York:20260907T180000
DTSTAMP:20260421T193818
CREATED:20260330T192634Z
LAST-MODIFIED:20260330T193344Z
UID:10001278-1778925600-1788804000@www.oldwestburygardens.org
SUMMARY:Sean Kenney’s Nature Connects® Made with LEGO® Bricks Exhibition
DESCRIPTION:Tours\n\n\n\n\nOld Westbury Gardens welcomes internationally acclaimed artist Sean Kenney and his Nature Connects® exhibition. Explore 17 larger-than-life sculptures inspired by the wonders of the natural world—each built from over 300\,000 LEGO® bricks. Vibrant and imaginative\, these creations blend art\, science\, and nature\, offering visitors of all ages a playful new way to experience the gardens. \n\n\n\nIncluded with admission. For more information on the exhibit\, theme events and Sean Kenney\, click here. \n\n\n\n\n\ngeneral admission tickets\n\n\n\n\n\nbecome a member
URL:https://www.oldwestburygardens.org/event/sean-kenneys-nature-connects-made-with-lego-bricks-exhibition/
CATEGORIES:Art,Family Fun,Kids,Seasonal/Special Events
ATTACH;FMTTYPE=image/png:https://www.oldwestburygardens.org/wp-content/uploads/2026/01/NC_LOGO_horizontal.png
END:VEVENT
BEGIN:VEVENT
DTSTART;TZID=America/New_York:20260604T190000
DTEND;TZID=America/New_York:20260604T210000
DTSTAMP:20260421T193818
CREATED:20260227T152314Z
LAST-MODIFIED:20260227T152315Z
UID:10001206-1780599600-1780606800@www.oldwestburygardens.org
SUMMARY:Seasonal Sips 2-Hour Painting Class
DESCRIPTION:Tours\n\n\n\n\nJoin us for a relaxing\, step-by-step painting experience as you create your season inspired masterpiece. Seasonal non-alcoholic refreshments will be served while you paint. Please arrive 15 minutes early to get settled\, and dress for a creative (and possibly messy) time. No experience is necessary\, come with your friends and have fun! \n\n\n\nAll participants will receive a canvas and all supplies needed for the program will be provided for use during the session. \n\n\n\nAdults and Ages 12+ | Pre-registration required. | $30 per participant | 20% member discount \n\n\n\nLocation: The Barn at Orchard Hill \n\n\n\n\n\nregister\n\n\n\n\n\nbecoma a member
URL:https://www.oldwestburygardens.org/event/seasonal-sips-2-hour-painting-class-2/
CATEGORIES:Art,Workshops
ATTACH;FMTTYPE=image/jpeg:https://www.oldwestburygardens.org/wp-content/uploads/2026/02/54617830751_f69059a1a2_o-scaled.jpg
END:VEVENT
BEGIN:VEVENT
DTSTART;TZID=America/New_York:20260606T103000
DTEND;TZID=America/New_York:20260606T113000
DTSTAMP:20260421T193818
CREATED:20260211T215655Z
LAST-MODIFIED:20260227T160616Z
UID:10001166-1780741800-1780745400@www.oldwestburygardens.org
SUMMARY:Storybook Stroll: The Secret Garden by Callista Brill (based on Frances Hodgson Burnett)
DESCRIPTION:Tours\n\n\n\n\nJoin us on our new and improved stroll route\, we will start at the map stand. Little listeners are invited to join us for a guided stroll through the Gardens! Along the way\, we’ll discover nature’s wonders\, in our formal gardens. The tour ends at the Thatched Cottage with a story and hands-on craft for each child to take home. \n\n\n\nIncluded with Admission. \n\n\n\nLocation: The Map Stand \n\n\n\n\n\n\n\n\n\nbecome a member
URL:https://www.oldwestburygardens.org/event/storybook-stroll-the-secret-garden-by-callista-brill-based-on-frances-hodgson-burnett/
CATEGORIES:Family Fun,Kids,Tours
ATTACH;FMTTYPE=image/jpeg:https://www.oldwestburygardens.org/wp-content/uploads/2026/02/Storybook-Stroll.jpg-rev-scaled.jpg
END:VEVENT
BEGIN:VEVENT
DTSTART;TZID=UTC:20260607T090000
DTEND;TZID=UTC:20260607T150000
DTSTAMP:20260421T193818
CREATED:20260216T213625Z
LAST-MODIFIED:20260216T213626Z
UID:10001185-1780822800-1780844400@www.oldwestburygardens.org
SUMMARY:Antique Car Show
DESCRIPTION:Tours\n\n\n\n\nStep back in time and experience the charm of classic automobiles at the most elegant antique car show on Long Island\, proudly presented by the Greater New York Region\, Antique Automobile Club of America. Join us for a day of stunning vintage vehicles\, captivating history\, and friendly competition. \n\n\n\nAwards Ceremony: 2:00–3:00 PM – Celebrate the best of the best as this year’s award winners are announced! \n\n\n\nWant to showcase your vintage ride? Registration is simple – just call 516.353.7870 or visit greaternewyorkregion.org to register your vehicle. \n\n\n\nAdmission: Included with your ticket! \n\n\n\nRAIN DATE: In case of inclement weather\, we’ll be back on Sunday\, June 14th from 9 AM to 3 PM. \n\n\n\nDon’t miss this chance to admire timeless classics and make memories that will last a lifetime! \n\n\n\n\n\n\n\n\n\n\n\n\n\n\n\n\n\n\n\ngeneral admission tickets\n\n\n\n\n\nbecome a member
URL:https://www.oldwestburygardens.org/event/antique-car-show-2/
CATEGORIES:Family Fun,Seasonal/Special Events
ATTACH;FMTTYPE=image/jpeg:https://www.oldwestburygardens.org/wp-content/uploads/2025/05/antiquecarshow-new.jpg
END:VEVENT
BEGIN:VEVENT
DTSTART;TZID=America/New_York:20260610T160000
DTEND;TZID=America/New_York:20260610T173000
DTSTAMP:20260421T193818
CREATED:20260211T222624Z
LAST-MODIFIED:20260320T183015Z
UID:10001173-1781107200-1781112600@www.oldwestburygardens.org
SUMMARY:Sketching and Water Coloring for Adults
DESCRIPTION:Tours\n\n\n\n\nExplore your creativity in this hands-on adult education program with our Education Manager! Participants will use a sketch pad\, pencil\, watercolor set\, and brush provided during class while learning techniques for sketching from observation. At the end\, take home your finished artwork to display—supplies are for use during class only. \n\n\n\nThis is a rain or shine program. In the event of rain\, class will be held at The Barn at Orchard Hill or inside the Thatched Cottage where participants will paint a floral still life. \n\n\n\nPre-registration required. | $27 per participant |$5 supply fee only for Members \n\n\n\nKindly note: Library passes provide general admission only and are not valid for entry into pre-registered programs or special events. \n\n\n\n\n\nregister\n\n\n\n\n\nbecome a member
URL:https://www.oldwestburygardens.org/event/sketching-and-water-coloring-for-adults-10/2026-06-10/
CATEGORIES:Art,Workshops
ATTACH;FMTTYPE=image/jpeg:https://www.oldwestburygardens.org/wp-content/uploads/2026/02/IMG_9521.jpg-rev-scaled.jpg
END:VEVENT
BEGIN:VEVENT
DTSTART;TZID=America/New_York:20260617T160000
DTEND;TZID=America/New_York:20260617T173000
DTSTAMP:20260421T193818
CREATED:20260211T222624Z
LAST-MODIFIED:20260320T183015Z
UID:10001174-1781712000-1781717400@www.oldwestburygardens.org
SUMMARY:Sketching and Water Coloring for Adults
DESCRIPTION:Tours\n\n\n\n\nExplore your creativity in this hands-on adult education program with our Education Manager! Participants will use a sketch pad\, pencil\, watercolor set\, and brush provided during class while learning techniques for sketching from observation. At the end\, take home your finished artwork to display—supplies are for use during class only. \n\n\n\nThis is a rain or shine program. In the event of rain\, class will be held at The Barn at Orchard Hill or inside the Thatched Cottage where participants will paint a floral still life. \n\n\n\nPre-registration required. | $27 per participant |$5 supply fee only for Members \n\n\n\nKindly note: Library passes provide general admission only and are not valid for entry into pre-registered programs or special events. \n\n\n\n\n\nregister\n\n\n\n\n\nbecome a member
URL:https://www.oldwestburygardens.org/event/sketching-and-water-coloring-for-adults-10/2026-06-17/
CATEGORIES:Art,Workshops
ATTACH;FMTTYPE=image/jpeg:https://www.oldwestburygardens.org/wp-content/uploads/2026/02/IMG_9521.jpg-rev-scaled.jpg
END:VEVENT
BEGIN:VEVENT
DTSTART;TZID=America/New_York:20260618T201500
DTEND;TZID=America/New_York:20260618T220000
DTSTAMP:20260421T193818
CREATED:20260304T210952Z
LAST-MODIFIED:20260304T210954Z
UID:10001218-1781813700-1781820000@www.oldwestburygardens.org
SUMMARY:Stargazers
DESCRIPTION:Tours\n\n\n\n\nJoin members of the Astronomical Society of Long Island for a nighttime skywatching session. Gates open 30 minutes before observing begins. asliclub.org  \n\n\n\nAll ages. Free event!
URL:https://www.oldwestburygardens.org/event/stargazers-5/2026-06-18/
CATEGORIES:Family Fun
ATTACH;FMTTYPE=image/jpeg:https://www.oldwestburygardens.org/wp-content/uploads/2025/05/Stargazers-1.jpg
END:VEVENT
BEGIN:VEVENT
DTSTART;TZID=America/New_York:20260624T160000
DTEND;TZID=America/New_York:20260624T173000
DTSTAMP:20260421T193818
CREATED:20260211T222624Z
LAST-MODIFIED:20260320T183015Z
UID:10001175-1782316800-1782322200@www.oldwestburygardens.org
SUMMARY:Sketching and Water Coloring for Adults
DESCRIPTION:Tours\n\n\n\n\nExplore your creativity in this hands-on adult education program with our Education Manager! Participants will use a sketch pad\, pencil\, watercolor set\, and brush provided during class while learning techniques for sketching from observation. At the end\, take home your finished artwork to display—supplies are for use during class only. \n\n\n\nThis is a rain or shine program. In the event of rain\, class will be held at The Barn at Orchard Hill or inside the Thatched Cottage where participants will paint a floral still life. \n\n\n\nPre-registration required. | $27 per participant |$5 supply fee only for Members \n\n\n\nKindly note: Library passes provide general admission only and are not valid for entry into pre-registered programs or special events. \n\n\n\n\n\nregister\n\n\n\n\n\nbecome a member
URL:https://www.oldwestburygardens.org/event/sketching-and-water-coloring-for-adults-10/2026-06-24/
CATEGORIES:Art,Workshops
ATTACH;FMTTYPE=image/jpeg:https://www.oldwestburygardens.org/wp-content/uploads/2026/02/IMG_9521.jpg-rev-scaled.jpg
END:VEVENT
BEGIN:VEVENT
DTSTART;TZID=America/New_York:20260625T163000
DTEND;TZID=America/New_York:20260625T173000
DTSTAMP:20260421T193818
CREATED:20260311T140835Z
LAST-MODIFIED:20260313T195727Z
UID:10001226-1782405000-1782408600@www.oldwestburygardens.org
SUMMARY:Brick Builders: Build Something Wild
DESCRIPTION:Tours\n\n\n\n\nSpend an afternoon exploring\, building\, and creating together! Brick Builders invites children and their grown-ups to enjoy building a LEGO® Creator 3-in-1 Tropical Toucan.  \n\n\n\nThe program begins at the beech tree\, and includes a guided walk through some of the featured exhibit; Sean Kenney’s Nature Connects®\, an exhibit made with LEGO bricks. After the tour\, head to the Barn at Orchard Hill to build their LEGO kit to take home! \n\n\n\nAges 5+ | pre-registration required | $24 per child (includes admission\, guided tour\, and LEGO kit) | $22 per Chaperone (includes admission and guided tour) | 20% off member discount \n\n\n\nLocation: The Beech Tree \n\n\n\nLEGO® is a trademark of the LEGO Group\, which does not sponsor\, authorize\, or endorse this event. \n\n\n\n\n\nregister\n\n\n\n\n\nbecome a member
URL:https://www.oldwestburygardens.org/event/brick-builders-build-something-together-2/
CATEGORIES:Family Fun,Kids,Seasonal/Special Events,Tours,Workshops
ATTACH;FMTTYPE=image/jpeg:https://www.oldwestburygardens.org/wp-content/uploads/2026/03/build-something-wild-1-scaled.jpg
END:VEVENT
BEGIN:VEVENT
DTSTART;TZID=America/New_York:20260625T190000
DTEND;TZID=America/New_York:20260625T210000
DTSTAMP:20260421T193818
CREATED:20260402T202402Z
LAST-MODIFIED:20260402T202403Z
UID:10001277-1782414000-1782421200@www.oldwestburygardens.org
SUMMARY:Midsummer Jazz
DESCRIPTION:Tours\n\n\n\n\nMonk for President has redefined the art of the jazz trio. Featuring Glafkos Kontemeniotis (piano)\, Fred Berman (bass)\, and Vince ‘Kazi’ McCoy (drums)\, the group delivers a high-wire act of musical conversation. From timeless standards to deep-cut favorites\, and originals from Glafkos. Their improvisation has graced iconic stages like Bryant Park\, Central Park Summer Stage and the Schomburg Center. Don’t miss this masterclass in intuitive jazz. \n\n\n\nBefore\, during\, or after\, stroll the gardens decorated with floral arrangements and illuminated with lanterns. \n\n\n\nGates open 6:00 p.m. \n\n\n\nTICKETS: $40\, includes lite seasonal fare\, unlimited refreshing lemonade\, brewed iced teas and assorted seltzers.  \n\n\n\nAdditional wine\, beer and prosecco may be purchased separately. You’re welcome to bring a picnic dinner. \n\n\n\nLOCATION: The event will be held in the Garden of Appreciation. Parking will be by the Walled Garden. OWG staff will direct guests to this area. \n\n\n\n\n\npurchase tickets\n\n\n\n\n\nbecome a member
URL:https://www.oldwestburygardens.org/event/midsummer-jazz-2/
CATEGORIES:Music,Seasonal/Special Events
ATTACH;FMTTYPE=image/jpeg:https://www.oldwestburygardens.org/wp-content/uploads/2025/05/DSC_6978.jpeg
END:VEVENT
BEGIN:VEVENT
DTSTART;TZID=America/New_York:20260626T183000
DTEND;TZID=America/New_York:20260626T213000
DTSTAMP:20260421T193818
CREATED:20260327T143006Z
LAST-MODIFIED:20260327T143009Z
UID:10001213-1782498600-1782509400@www.oldwestburygardens.org
SUMMARY:Midsummer Nights
DESCRIPTION:Tours\n\n\n\n\n\n\n\n\n\n\n\n\n\n\n\n\n\n\nGuests of all ages are invited to picnic\, stroll\, and relax on one of the longest nights of the year. The Gardens will be illuminated with lanterns and decorated with wreaths and floral arrangements. \n\n\n\nBring a picnic dinner or purchase food and beverages on site from Café in the Woods\, operated by Polka Dot Poundcake of Rockville Centre.  \n\n\n\nTICKETS: \n\n\n\nGates open at 6:00 p.m. \n\n\n\nChildren 6 and under are free \n\n\n\n$25 General Admission/Members receive 20% off \n\n\n\n$12 Children (ages 7-17)/Member Child 20% off (ages 7-17) \n\n\n\n\n\npurchase tickets\n\n\n\nbecome a member
URL:https://www.oldwestburygardens.org/event/midsummer-nights-4/2026-06-26/
CATEGORIES:Family Fun,Seasonal/Special Events
ATTACH;FMTTYPE=image/jpeg:https://www.oldwestburygardens.org/wp-content/uploads/2025/05/87rev.jpg
END:VEVENT
BEGIN:VEVENT
DTSTART;TZID=America/New_York:20260627T183000
DTEND;TZID=America/New_York:20260627T213000
DTSTAMP:20260421T193818
CREATED:20260327T143006Z
LAST-MODIFIED:20260327T143009Z
UID:10001214-1782585000-1782595800@www.oldwestburygardens.org
SUMMARY:Midsummer Nights
DESCRIPTION:Tours\n\n\n\n\n\n\n\n\n\n\n\n\n\n\n\n\n\n\nGuests of all ages are invited to picnic\, stroll\, and relax on one of the longest nights of the year. The Gardens will be illuminated with lanterns and decorated with wreaths and floral arrangements. \n\n\n\nBring a picnic dinner or purchase food and beverages on site from Café in the Woods\, operated by Polka Dot Poundcake of Rockville Centre.  \n\n\n\nTICKETS: \n\n\n\nGates open at 6:00 p.m. \n\n\n\nChildren 6 and under are free \n\n\n\n$25 General Admission/Members receive 20% off \n\n\n\n$12 Children (ages 7-17)/Member Child 20% off (ages 7-17) \n\n\n\n\n\npurchase tickets\n\n\n\nbecome a member
URL:https://www.oldwestburygardens.org/event/midsummer-nights-4/2026-06-27/
CATEGORIES:Family Fun,Seasonal/Special Events
ATTACH;FMTTYPE=image/jpeg:https://www.oldwestburygardens.org/wp-content/uploads/2025/05/87rev.jpg
END:VEVENT
BEGIN:VEVENT
DTSTART;TZID=America/New_York:20260628T183000
DTEND;TZID=America/New_York:20260628T213000
DTSTAMP:20260421T193818
CREATED:20260327T143006Z
LAST-MODIFIED:20260327T143009Z
UID:10001215-1782671400-1782682200@www.oldwestburygardens.org
SUMMARY:Midsummer Nights
DESCRIPTION:Tours\n\n\n\n\n\n\n\n\n\n\n\n\n\n\n\n\n\n\nGuests of all ages are invited to picnic\, stroll\, and relax on one of the longest nights of the year. The Gardens will be illuminated with lanterns and decorated with wreaths and floral arrangements. \n\n\n\nBring a picnic dinner or purchase food and beverages on site from Café in the Woods\, operated by Polka Dot Poundcake of Rockville Centre.  \n\n\n\nTICKETS: \n\n\n\nGates open at 6:00 p.m. \n\n\n\nChildren 6 and under are free \n\n\n\n$25 General Admission/Members receive 20% off \n\n\n\n$12 Children (ages 7-17)/Member Child 20% off (ages 7-17) \n\n\n\n\n\npurchase tickets\n\n\n\nbecome a member
URL:https://www.oldwestburygardens.org/event/midsummer-nights-4/2026-06-28/
CATEGORIES:Family Fun,Seasonal/Special Events
ATTACH;FMTTYPE=image/jpeg:https://www.oldwestburygardens.org/wp-content/uploads/2025/05/87rev.jpg
END:VEVENT
END:VCALENDAR