BEGIN:VCALENDAR
VERSION:2.0
PRODID:-//Old Westbury Gardens - ECPv6.15.10//NONSGML v1.0//EN
CALSCALE:GREGORIAN
METHOD:PUBLISH
X-WR-CALNAME:Old Westbury Gardens
X-ORIGINAL-URL:https://www.oldwestburygardens.org/zh
X-WR-CALDESC:Old Westbury Gardens的活动
REFRESH-INTERVAL;VALUE=DURATION:PT1H
X-Robots-Tag:noindex
X-PUBLISHED-TTL:PT1H
BEGIN:VTIMEZONE
TZID:America/New_York
BEGIN:DAYLIGHT
TZOFFSETFROM:-0500
TZOFFSETTO:-0400
TZNAME:EDT
DTSTART:20250309T070000
END:DAYLIGHT
BEGIN:STANDARD
TZOFFSETFROM:-0400
TZOFFSETTO:-0500
TZNAME:EST
DTSTART:20251102T060000
END:STANDARD
BEGIN:DAYLIGHT
TZOFFSETFROM:-0500
TZOFFSETTO:-0400
TZNAME:EDT
DTSTART:20260308T070000
END:DAYLIGHT
BEGIN:STANDARD
TZOFFSETFROM:-0400
TZOFFSETTO:-0500
TZNAME:EST
DTSTART:20261101T060000
END:STANDARD
BEGIN:DAYLIGHT
TZOFFSETFROM:-0500
TZOFFSETTO:-0400
TZNAME:EDT
DTSTART:20270314T070000
END:DAYLIGHT
BEGIN:STANDARD
TZOFFSETFROM:-0400
TZOFFSETTO:-0500
TZNAME:EST
DTSTART:20271107T060000
END:STANDARD
END:VTIMEZONE
BEGIN:VEVENT
DTSTART;TZID=America/New_York:20260508T160000
DTEND;TZID=America/New_York:20260508T180000
DTSTAMP:20260421T043513
CREATED:20260312T172735Z
LAST-MODIFIED:20260320T182407Z
UID:10001162-1778256000-1778263200@www.oldwestburygardens.org
SUMMARY:Embroidery Class
DESCRIPTION:Art\, Workshops\n\n\n\n\nLearn basic embroidery stitches and make a small\, embroidered design with the help of an instructor. All supplies are included\, and participants take home their hoop and embroidered design. \n\n\n\nAdults & Ages 12+ | Pre-registration required. | $30 per participant | 20% member discount \n\n\n\nLocation: The Barn at Orchard Hill \n\n\n\nKindly note: Library passes provide general admission only and are not valid for entry into pre-registered programs or special events. \n\n\n\n\n\nregister\n\n\n\n\n\nbecome a member
URL:https://www.oldwestburygardens.org/zh/event/embroidery-class-2/
CATEGORIES:Art,Workshops
ATTACH;FMTTYPE=image/jpeg:https://www.oldwestburygardens.org/wp-content/uploads/2026/02/IMG_1170.jpg-rev-scaled.jpg
END:VEVENT
BEGIN:VEVENT
DTSTART;TZID=America/New_York:20260812T160000
DTEND;TZID=America/New_York:20260812T180000
DTSTAMP:20260421T043513
CREATED:20260312T172831Z
LAST-MODIFIED:20260320T182432Z
UID:10001253-1786550400-1786557600@www.oldwestburygardens.org
SUMMARY:Embroidery Class
DESCRIPTION:Art\, Workshops\n\n\n\n\nLearn basic embroidery stitches and make a small\, embroidered design with the help of an instructor. All supplies are included\, and participants take home their hoop and embroidered design. \n\n\n\nAdults & Ages 12+ | Pre-registration required. | $30 per participant | 20% member discount \n\n\n\nLocation: The Barn at Orchard Hill \n\n\n\nKindly note: Library passes provide general admission only and are not valid for entry into pre-registered programs or special events. \n\n\n\n\n\nregister\n\n\n\n\n\nbecome a member
URL:https://www.oldwestburygardens.org/zh/event/embroidery-class-3/
CATEGORIES:Art,Workshops
ATTACH;FMTTYPE=image/jpeg:https://www.oldwestburygardens.org/wp-content/uploads/2026/02/IMG_1170.jpg-rev-scaled.jpg
END:VEVENT
BEGIN:VEVENT
DTSTART;TZID=America/New_York:20261014T160000
DTEND;TZID=America/New_York:20261014T180000
DTSTAMP:20260421T043513
CREATED:20260312T172926Z
LAST-MODIFIED:20260320T182502Z
UID:10001164-1791993600-1792000800@www.oldwestburygardens.org
SUMMARY:Embroidery Class
DESCRIPTION:Art\, Workshops\n\n\n\n\nLearn basic embroidery stitches and make a small\, embroidered design with the help of an instructor. All supplies are included\, and participants take home their hoop and embroidered design. \n\n\n\nAdults & Ages 12+ | Pre-registration required. | $30 per participant | 20% member discount \n\n\n\nLocation: The Barn at Orchard Hill \n\n\n\nKindly note: Library passes provide general admission only and are not valid for entry into pre-registered programs or special events. \n\n\n\n\n\nregister\n\n\n\n\n\nbecome a member
URL:https://www.oldwestburygardens.org/zh/event/embroidery-class-4/
CATEGORIES:Art,Workshops
ATTACH;FMTTYPE=image/jpeg:https://www.oldwestburygardens.org/wp-content/uploads/2026/02/IMG_1170.jpg-rev-scaled.jpg
END:VEVENT
BEGIN:VEVENT
DTSTART;TZID=America/New_York:20261209T160000
DTEND;TZID=America/New_York:20261209T180000
DTSTAMP:20260421T043513
CREATED:20260312T173407Z
LAST-MODIFIED:20260320T182534Z
UID:10001254-1796832000-1796839200@www.oldwestburygardens.org
SUMMARY:Embroidery Class
DESCRIPTION:Art\, Workshops\n\n\n\n\nLearn basic embroidery stitches and make a small\, embroidered design with the help of an instructor. All supplies are included\, and participants take home their hoop and embroidered design. \n\n\n\nAdults & Ages 12+ | Pre-registration required. | $30 per participant | 20% member discount \n\n\n\nLocation: The Barn at Orchard Hill \n\n\n\nKindly note: Library passes provide general admission only and are not valid for entry into pre-registered programs or special events. \n\n\n\n\n\nregister\n\n\n\n\n\nbecome a member
URL:https://www.oldwestburygardens.org/zh/event/embroidery-class-5/
CATEGORIES:Art,Workshops
ATTACH;FMTTYPE=image/jpeg:https://www.oldwestburygardens.org/wp-content/uploads/2026/02/IMG_1170.jpg-rev-scaled.jpg
END:VEVENT
END:VCALENDAR