BEGIN:VCALENDAR
VERSION:2.0
PRODID:-//Old Westbury Gardens - ECPv6.15.10//NONSGML v1.0//EN
CALSCALE:GREGORIAN
METHOD:PUBLISH
X-WR-CALNAME:Old Westbury Gardens
X-ORIGINAL-URL:https://www.oldwestburygardens.org/zh
X-WR-CALDESC:Old Westbury Gardens的活动
REFRESH-INTERVAL;VALUE=DURATION:PT1H
X-Robots-Tag:noindex
X-PUBLISHED-TTL:PT1H
BEGIN:VTIMEZONE
TZID:America/New_York
BEGIN:DAYLIGHT
TZOFFSETFROM:-0500
TZOFFSETTO:-0400
TZNAME:EDT
DTSTART:20250309T070000
END:DAYLIGHT
BEGIN:STANDARD
TZOFFSETFROM:-0400
TZOFFSETTO:-0500
TZNAME:EST
DTSTART:20251102T060000
END:STANDARD
BEGIN:DAYLIGHT
TZOFFSETFROM:-0500
TZOFFSETTO:-0400
TZNAME:EDT
DTSTART:20260308T070000
END:DAYLIGHT
BEGIN:STANDARD
TZOFFSETFROM:-0400
TZOFFSETTO:-0500
TZNAME:EST
DTSTART:20261101T060000
END:STANDARD
BEGIN:DAYLIGHT
TZOFFSETFROM:-0500
TZOFFSETTO:-0400
TZNAME:EDT
DTSTART:20270314T070000
END:DAYLIGHT
BEGIN:STANDARD
TZOFFSETFROM:-0400
TZOFFSETTO:-0500
TZNAME:EST
DTSTART:20271107T060000
END:STANDARD
END:VTIMEZONE
BEGIN:VEVENT
DTSTART;TZID=America/New_York:20260422T160000
DTEND;TZID=America/New_York:20260422T173000
DTSTAMP:20260421T062220
CREATED:20260211T222624Z
LAST-MODIFIED:20260320T183015Z
UID:10001170-1776873600-1776879000@www.oldwestburygardens.org
SUMMARY:Sketching and Water Coloring for Adults
DESCRIPTION:Art\, Workshops\n\n\n\n\nExplore your creativity in this hands-on adult education program with our Education Manager! Participants will use a sketch pad\, pencil\, watercolor set\, and brush provided during class while learning techniques for sketching from observation. At the end\, take home your finished artwork to display—supplies are for use during class only. \n\n\n\nThis is a rain or shine program. In the event of rain\, class will be held at The Barn at Orchard Hill or inside the Thatched Cottage where participants will paint a floral still life. \n\n\n\nPre-registration required. | $27 per participant |$5 supply fee only for Members \n\n\n\nKindly note: Library passes provide general admission only and are not valid for entry into pre-registered programs or special events. \n\n\n\n\n\nregister\n\n\n\n\n\nbecome a member
URL:https://www.oldwestburygardens.org/zh/event/sketching-and-water-coloring-for-adults-10/2026-04-22/
CATEGORIES:Art,Workshops
ATTACH;FMTTYPE=image/jpeg:https://www.oldwestburygardens.org/wp-content/uploads/2026/02/IMG_9521.jpg-rev-scaled.jpg
END:VEVENT
BEGIN:VEVENT
DTSTART;TZID=America/New_York:20260429T160000
DTEND;TZID=America/New_York:20260429T173000
DTSTAMP:20260421T062220
CREATED:20260211T222624Z
LAST-MODIFIED:20260320T183015Z
UID:10001171-1777478400-1777483800@www.oldwestburygardens.org
SUMMARY:Sketching and Water Coloring for Adults
DESCRIPTION:Art\, Workshops\n\n\n\n\nExplore your creativity in this hands-on adult education program with our Education Manager! Participants will use a sketch pad\, pencil\, watercolor set\, and brush provided during class while learning techniques for sketching from observation. At the end\, take home your finished artwork to display—supplies are for use during class only. \n\n\n\nThis is a rain or shine program. In the event of rain\, class will be held at The Barn at Orchard Hill or inside the Thatched Cottage where participants will paint a floral still life. \n\n\n\nPre-registration required. | $27 per participant |$5 supply fee only for Members \n\n\n\nKindly note: Library passes provide general admission only and are not valid for entry into pre-registered programs or special events. \n\n\n\n\n\nregister\n\n\n\n\n\nbecome a member
URL:https://www.oldwestburygardens.org/zh/event/sketching-and-water-coloring-for-adults-10/2026-04-29/
CATEGORIES:Art,Workshops
ATTACH;FMTTYPE=image/jpeg:https://www.oldwestburygardens.org/wp-content/uploads/2026/02/IMG_9521.jpg-rev-scaled.jpg
END:VEVENT
BEGIN:VEVENT
DTSTART;TZID=America/New_York:20260506T160000
DTEND;TZID=America/New_York:20260506T173000
DTSTAMP:20260421T062220
CREATED:20260211T222624Z
LAST-MODIFIED:20260320T183015Z
UID:10001172-1778083200-1778088600@www.oldwestburygardens.org
SUMMARY:Sketching and Water Coloring for Adults
DESCRIPTION:Art\, Workshops\n\n\n\n\nExplore your creativity in this hands-on adult education program with our Education Manager! Participants will use a sketch pad\, pencil\, watercolor set\, and brush provided during class while learning techniques for sketching from observation. At the end\, take home your finished artwork to display—supplies are for use during class only. \n\n\n\nThis is a rain or shine program. In the event of rain\, class will be held at The Barn at Orchard Hill or inside the Thatched Cottage where participants will paint a floral still life. \n\n\n\nPre-registration required. | $27 per participant |$5 supply fee only for Members \n\n\n\nKindly note: Library passes provide general admission only and are not valid for entry into pre-registered programs or special events. \n\n\n\n\n\nregister\n\n\n\n\n\nbecome a member
URL:https://www.oldwestburygardens.org/zh/event/sketching-and-water-coloring-for-adults-10/2026-05-06/
CATEGORIES:Art,Workshops
ATTACH;FMTTYPE=image/jpeg:https://www.oldwestburygardens.org/wp-content/uploads/2026/02/IMG_9521.jpg-rev-scaled.jpg
END:VEVENT
BEGIN:VEVENT
DTSTART;TZID=America/New_York:20260610T160000
DTEND;TZID=America/New_York:20260610T173000
DTSTAMP:20260421T062220
CREATED:20260211T222624Z
LAST-MODIFIED:20260320T183015Z
UID:10001173-1781107200-1781112600@www.oldwestburygardens.org
SUMMARY:Sketching and Water Coloring for Adults
DESCRIPTION:Art\, Workshops\n\n\n\n\nExplore your creativity in this hands-on adult education program with our Education Manager! Participants will use a sketch pad\, pencil\, watercolor set\, and brush provided during class while learning techniques for sketching from observation. At the end\, take home your finished artwork to display—supplies are for use during class only. \n\n\n\nThis is a rain or shine program. In the event of rain\, class will be held at The Barn at Orchard Hill or inside the Thatched Cottage where participants will paint a floral still life. \n\n\n\nPre-registration required. | $27 per participant |$5 supply fee only for Members \n\n\n\nKindly note: Library passes provide general admission only and are not valid for entry into pre-registered programs or special events. \n\n\n\n\n\nregister\n\n\n\n\n\nbecome a member
URL:https://www.oldwestburygardens.org/zh/event/sketching-and-water-coloring-for-adults-10/2026-06-10/
CATEGORIES:Art,Workshops
ATTACH;FMTTYPE=image/jpeg:https://www.oldwestburygardens.org/wp-content/uploads/2026/02/IMG_9521.jpg-rev-scaled.jpg
END:VEVENT
BEGIN:VEVENT
DTSTART;TZID=America/New_York:20260617T160000
DTEND;TZID=America/New_York:20260617T173000
DTSTAMP:20260421T062220
CREATED:20260211T222624Z
LAST-MODIFIED:20260320T183015Z
UID:10001174-1781712000-1781717400@www.oldwestburygardens.org
SUMMARY:Sketching and Water Coloring for Adults
DESCRIPTION:Art\, Workshops\n\n\n\n\nExplore your creativity in this hands-on adult education program with our Education Manager! Participants will use a sketch pad\, pencil\, watercolor set\, and brush provided during class while learning techniques for sketching from observation. At the end\, take home your finished artwork to display—supplies are for use during class only. \n\n\n\nThis is a rain or shine program. In the event of rain\, class will be held at The Barn at Orchard Hill or inside the Thatched Cottage where participants will paint a floral still life. \n\n\n\nPre-registration required. | $27 per participant |$5 supply fee only for Members \n\n\n\nKindly note: Library passes provide general admission only and are not valid for entry into pre-registered programs or special events. \n\n\n\n\n\nregister\n\n\n\n\n\nbecome a member
URL:https://www.oldwestburygardens.org/zh/event/sketching-and-water-coloring-for-adults-10/2026-06-17/
CATEGORIES:Art,Workshops
ATTACH;FMTTYPE=image/jpeg:https://www.oldwestburygardens.org/wp-content/uploads/2026/02/IMG_9521.jpg-rev-scaled.jpg
END:VEVENT
BEGIN:VEVENT
DTSTART;TZID=America/New_York:20260624T160000
DTEND;TZID=America/New_York:20260624T173000
DTSTAMP:20260421T062220
CREATED:20260211T222624Z
LAST-MODIFIED:20260320T183015Z
UID:10001175-1782316800-1782322200@www.oldwestburygardens.org
SUMMARY:Sketching and Water Coloring for Adults
DESCRIPTION:Art\, Workshops\n\n\n\n\nExplore your creativity in this hands-on adult education program with our Education Manager! Participants will use a sketch pad\, pencil\, watercolor set\, and brush provided during class while learning techniques for sketching from observation. At the end\, take home your finished artwork to display—supplies are for use during class only. \n\n\n\nThis is a rain or shine program. In the event of rain\, class will be held at The Barn at Orchard Hill or inside the Thatched Cottage where participants will paint a floral still life. \n\n\n\nPre-registration required. | $27 per participant |$5 supply fee only for Members \n\n\n\nKindly note: Library passes provide general admission only and are not valid for entry into pre-registered programs or special events. \n\n\n\n\n\nregister\n\n\n\n\n\nbecome a member
URL:https://www.oldwestburygardens.org/zh/event/sketching-and-water-coloring-for-adults-10/2026-06-24/
CATEGORIES:Art,Workshops
ATTACH;FMTTYPE=image/jpeg:https://www.oldwestburygardens.org/wp-content/uploads/2026/02/IMG_9521.jpg-rev-scaled.jpg
END:VEVENT
BEGIN:VEVENT
DTSTART;TZID=America/New_York:20260819T160000
DTEND;TZID=America/New_York:20260819T173000
DTSTAMP:20260421T062220
CREATED:20260211T222624Z
LAST-MODIFIED:20260320T183015Z
UID:10001176-1787155200-1787160600@www.oldwestburygardens.org
SUMMARY:Sketching and Water Coloring for Adults
DESCRIPTION:Art\, Workshops\n\n\n\n\nExplore your creativity in this hands-on adult education program with our Education Manager! Participants will use a sketch pad\, pencil\, watercolor set\, and brush provided during class while learning techniques for sketching from observation. At the end\, take home your finished artwork to display—supplies are for use during class only. \n\n\n\nThis is a rain or shine program. In the event of rain\, class will be held at The Barn at Orchard Hill or inside the Thatched Cottage where participants will paint a floral still life. \n\n\n\nPre-registration required. | $27 per participant |$5 supply fee only for Members \n\n\n\nKindly note: Library passes provide general admission only and are not valid for entry into pre-registered programs or special events. \n\n\n\n\n\nregister\n\n\n\n\n\nbecome a member
URL:https://www.oldwestburygardens.org/zh/event/sketching-and-water-coloring-for-adults-10/2026-08-19/
CATEGORIES:Art,Workshops
ATTACH;FMTTYPE=image/jpeg:https://www.oldwestburygardens.org/wp-content/uploads/2026/02/IMG_9521.jpg-rev-scaled.jpg
END:VEVENT
BEGIN:VEVENT
DTSTART;TZID=America/New_York:20260826T160000
DTEND;TZID=America/New_York:20260826T173000
DTSTAMP:20260421T062220
CREATED:20260211T222624Z
LAST-MODIFIED:20260320T183015Z
UID:10001177-1787760000-1787765400@www.oldwestburygardens.org
SUMMARY:Sketching and Water Coloring for Adults
DESCRIPTION:Art\, Workshops\n\n\n\n\nExplore your creativity in this hands-on adult education program with our Education Manager! Participants will use a sketch pad\, pencil\, watercolor set\, and brush provided during class while learning techniques for sketching from observation. At the end\, take home your finished artwork to display—supplies are for use during class only. \n\n\n\nThis is a rain or shine program. In the event of rain\, class will be held at The Barn at Orchard Hill or inside the Thatched Cottage where participants will paint a floral still life. \n\n\n\nPre-registration required. | $27 per participant |$5 supply fee only for Members \n\n\n\nKindly note: Library passes provide general admission only and are not valid for entry into pre-registered programs or special events. \n\n\n\n\n\nregister\n\n\n\n\n\nbecome a member
URL:https://www.oldwestburygardens.org/zh/event/sketching-and-water-coloring-for-adults-10/2026-08-26/
CATEGORIES:Art,Workshops
ATTACH;FMTTYPE=image/jpeg:https://www.oldwestburygardens.org/wp-content/uploads/2026/02/IMG_9521.jpg-rev-scaled.jpg
END:VEVENT
BEGIN:VEVENT
DTSTART;TZID=America/New_York:20260916T160000
DTEND;TZID=America/New_York:20260916T173000
DTSTAMP:20260421T062220
CREATED:20260211T222624Z
LAST-MODIFIED:20260320T183015Z
UID:10001178-1789574400-1789579800@www.oldwestburygardens.org
SUMMARY:Sketching and Water Coloring for Adults
DESCRIPTION:Art\, Workshops\n\n\n\n\nExplore your creativity in this hands-on adult education program with our Education Manager! Participants will use a sketch pad\, pencil\, watercolor set\, and brush provided during class while learning techniques for sketching from observation. At the end\, take home your finished artwork to display—supplies are for use during class only. \n\n\n\nThis is a rain or shine program. In the event of rain\, class will be held at The Barn at Orchard Hill or inside the Thatched Cottage where participants will paint a floral still life. \n\n\n\nPre-registration required. | $27 per participant |$5 supply fee only for Members \n\n\n\nKindly note: Library passes provide general admission only and are not valid for entry into pre-registered programs or special events. \n\n\n\n\n\nregister\n\n\n\n\n\nbecome a member
URL:https://www.oldwestburygardens.org/zh/event/sketching-and-water-coloring-for-adults-10/2026-09-16/
CATEGORIES:Art,Workshops
ATTACH;FMTTYPE=image/jpeg:https://www.oldwestburygardens.org/wp-content/uploads/2026/02/IMG_9521.jpg-rev-scaled.jpg
END:VEVENT
BEGIN:VEVENT
DTSTART;TZID=America/New_York:20260923T160000
DTEND;TZID=America/New_York:20260923T173000
DTSTAMP:20260421T062220
CREATED:20260211T222624Z
LAST-MODIFIED:20260320T183015Z
UID:10001179-1790179200-1790184600@www.oldwestburygardens.org
SUMMARY:Sketching and Water Coloring for Adults
DESCRIPTION:Art\, Workshops\n\n\n\n\nExplore your creativity in this hands-on adult education program with our Education Manager! Participants will use a sketch pad\, pencil\, watercolor set\, and brush provided during class while learning techniques for sketching from observation. At the end\, take home your finished artwork to display—supplies are for use during class only. \n\n\n\nThis is a rain or shine program. In the event of rain\, class will be held at The Barn at Orchard Hill or inside the Thatched Cottage where participants will paint a floral still life. \n\n\n\nPre-registration required. | $27 per participant |$5 supply fee only for Members \n\n\n\nKindly note: Library passes provide general admission only and are not valid for entry into pre-registered programs or special events. \n\n\n\n\n\nregister\n\n\n\n\n\nbecome a member
URL:https://www.oldwestburygardens.org/zh/event/sketching-and-water-coloring-for-adults-10/2026-09-23/
CATEGORIES:Art,Workshops
ATTACH;FMTTYPE=image/jpeg:https://www.oldwestburygardens.org/wp-content/uploads/2026/02/IMG_9521.jpg-rev-scaled.jpg
END:VEVENT
END:VCALENDAR